BEGIN:VCALENDAR
VERSION:2.0
PRODID:-//Death Magnetic - ECPv5.10.1//NONSGML v1.0//EN
CALSCALE:GREGORIAN
METHOD:PUBLISH
X-WR-CALNAME:Death Magnetic
X-ORIGINAL-URL:https://deathmagnetic.pl
X-WR-CALDESC:Events for Death Magnetic
BEGIN:VTIMEZONE
TZID:Europe/Warsaw
BEGIN:DAYLIGHT
TZOFFSETFROM:+0100
TZOFFSETTO:+0200
TZNAME:CEST
DTSTART:20150329T010000
END:DAYLIGHT
BEGIN:STANDARD
TZOFFSETFROM:+0200
TZOFFSETTO:+0100
TZNAME:CET
DTSTART:20151025T010000
END:STANDARD
END:VTIMEZONE
BEGIN:VEVENT
DTSTART;TZID=Europe/Warsaw:20151204T183000
DTEND;TZID=Europe/Warsaw:20151204T230000
DTSTAMP:20260421T035809
CREATED:20150921T174936Z
LAST-MODIFIED:20150921T174936Z
UID:92199-1449253800-1449270000@deathmagnetic.pl
SUMMARY:Periphery + Veil Of Maya
DESCRIPTION:Cenyy biletów:  \n70 zł – przedsprzedaż\n80 zł – w dniu koncertu \nBilety kolekcjonerskie dostępne na stronie Knock Out Production\,\nBilety systemowe na TicketPro\, E-Bilet\, Eventim i Biletomat \noraz \nw Sklepie Metal Shop\, Długa 17a\ni Antycafe\, ul. Sławkowska 12- w barze klubu “Fabryka” za okazaniem biletu zakupionego w Jazz Rock Cafe/Antyradio otrzymasz piwo gratis!
URL:https://deathmagnetic.pl/wydarzenie/periphery-veil-of-maya-3/
LOCATION:Fabryka\, ul. Zabłocie 23\, Kraków\, Polska
CATEGORIES:Koncerty,zagraniczne
ATTACH;FMTTYPE=image/jpeg:https://deathmagnetic.pl/wp-content/uploads/2015/09/Periphery-veil-Of-Maya.jpg
ORGANIZER;CN="KnockOut%20Productions":MAILTO:info@knockoutprod.net
GEO:50.0500744;19.9600714
X-APPLE-STRUCTURED-LOCATION;VALUE=URI;X-ADDRESS=Fabryka ul. Zabłocie 23 Kraków Polska;X-APPLE-RADIUS=500;X-TITLE=ul. Zabłocie 23:geo:19.9600714,50.0500744
END:VEVENT
END:VCALENDAR