BEGIN:VCALENDAR
VERSION:2.0
PRODID:-//Death Magnetic - ECPv5.10.1//NONSGML v1.0//EN
CALSCALE:GREGORIAN
METHOD:PUBLISH
X-WR-CALNAME:Death Magnetic
X-ORIGINAL-URL:https://deathmagnetic.pl
X-WR-CALDESC:Events for Death Magnetic
BEGIN:VTIMEZONE
TZID:Europe/Warsaw
BEGIN:DAYLIGHT
TZOFFSETFROM:+0100
TZOFFSETTO:+0200
TZNAME:CEST
DTSTART:20160327T010000
END:DAYLIGHT
BEGIN:STANDARD
TZOFFSETFROM:+0200
TZOFFSETTO:+0100
TZNAME:CET
DTSTART:20161030T010000
END:STANDARD
END:VTIMEZONE
BEGIN:VEVENT
DTSTART;TZID=Europe/Warsaw:20161112T190000
DTEND;TZID=Europe/Warsaw:20161112T230000
DTSTAMP:20260420T222125
CREATED:20161003T084003Z
LAST-MODIFIED:20161003T084003Z
UID:106084-1478977200-1478991600@deathmagnetic.pl
SUMMARY:Percival Schuttenbach
DESCRIPTION:Zespół zapewnia podczas koncertów szereg atrakcji: konkursy\, koszulki\, gadżety\, bilety specjalne i VIP\, zniżki dla tych\, co cosplayem i odtwórstwem historycznym się parają! Śledź uważnie i baczenie miej\, bo już niebawem wszystko to będzie ogłoszone na stronie http://www.percival.pl/ i fanpage’u https://www.facebook.com/PercivalSchuttenbach \nBilety (dostępne już wkrótce w sklepie Percivala http://www.percival.pl/sklep/)! \nBilety dostepne już wkrótce!\nW kasie klubu:\nPrzedsprzedaż – 35 zł\nW dniu koncertu – 50 zł \nPozostałe wyłącznie w sklepie Percivala http://www.percival.pl/sklep/\nGrupowe (6 osobowe) – 30 zł\nGrupowe (12-osobowe) – 25 zł\nNIESPODZIANKA! Bilety VIP – 160 zł\n(Pakiet zawiera: CD Percival Schuttenbach – „Strzyga”\, CD „Wiedźmin 3: Dziki Gon”\, Fotoplakat wykonany z zespołem podczas koncertu\, Rezerwacja stolika przy scenie* oraz Wejście na zamknięte after party z zespołem) \n* Opcja dostępna wyłącznie w Klubie Zaścianek. \nStart godz – 20:00\nWejście do klubu – 19:00
URL:https://deathmagnetic.pl/wydarzenie/percival-schuttenbach-12/
LOCATION:Zaścianek\, ul. Rostafińskiego 4\, Kraków\, Polska
CATEGORIES:Koncerty,Polskie
ATTACH;FMTTYPE=image/jpeg:https://deathmagnetic.pl/wp-content/uploads/2016/09/Percival-Schuttenbach-Strzyga-tour.jpg
GEO:50.0684219;19.9050327
X-APPLE-STRUCTURED-LOCATION;VALUE=URI;X-ADDRESS=Zaścianek ul. Rostafińskiego 4 Kraków Polska;X-APPLE-RADIUS=500;X-TITLE=ul. Rostafińskiego 4:geo:19.9050327,50.0684219
END:VEVENT
END:VCALENDAR