BEGIN:VCALENDAR
VERSION:2.0
PRODID:-//Death Magnetic - ECPv5.10.1//NONSGML v1.0//EN
CALSCALE:GREGORIAN
METHOD:PUBLISH
X-WR-CALNAME:Death Magnetic
X-ORIGINAL-URL:https://deathmagnetic.pl
X-WR-CALDESC:Events for Death Magnetic
BEGIN:VTIMEZONE
TZID:Europe/Warsaw
BEGIN:DAYLIGHT
TZOFFSETFROM:+0100
TZOFFSETTO:+0200
TZNAME:CEST
DTSTART:20160327T010000
END:DAYLIGHT
BEGIN:STANDARD
TZOFFSETFROM:+0200
TZOFFSETTO:+0100
TZNAME:CET
DTSTART:20161030T010000
END:STANDARD
END:VTIMEZONE
BEGIN:VEVENT
DTSTART;TZID=Europe/Warsaw:20161027T190000
DTEND;TZID=Europe/Warsaw:20161027T230000
DTSTAMP:20260421T125845
CREATED:20161003T082413Z
LAST-MODIFIED:20161003T082413Z
UID:106079-1477594800-1477609200@deathmagnetic.pl
SUMMARY:Percival Schuttenbach
DESCRIPTION:Zespół zapewnia podczas koncertów szereg atrakcji: konkursy\, koszulki\, gadżety\, bilety specjalne i VIP\, zniżki dla tych\, co cosplayem i odtwórstwem historycznym się parają! Śledź uważnie i baczenie miej\, bo już niebawem wszystko to będzie ogłoszone na stronie http://www.percival.pl/ i fanpage’u https://www.facebook.com/PercivalSchuttenbach \nBiety (dostępne już wkrótce w sklepie Percivala http://www.percival.pl/sklep/)! \nPrzedsprzedaż – 35 zł\nGrupowe (6 osobowe) – 30 zł\nGrupowe (12-osobowe) – 25 zł\nBilety VIP – 160 zł\nW dniu koncertu – 50 zł \nStart godz – 20:00\nWejście do klubu – 19:00
URL:https://deathmagnetic.pl/wydarzenie/percival-schuttenbach-10/
LOCATION:Klub u Bazyla\, ul. Norwida 18A\, Poznań\, wielkopolskie\, 60-867\, Polska
CATEGORIES:Koncerty,Polskie
ATTACH;FMTTYPE=image/jpeg:https://deathmagnetic.pl/wp-content/uploads/2016/09/Percival-Schuttenbach-Strzyga-tour.jpg
GEO:52.41666;16.9111489
X-APPLE-STRUCTURED-LOCATION;VALUE=URI;X-ADDRESS=Klub u Bazyla ul. Norwida 18A Poznań wielkopolskie 60-867 Polska;X-APPLE-RADIUS=500;X-TITLE=ul. Norwida 18A:geo:16.9111489,52.41666
END:VEVENT
END:VCALENDAR