BEGIN:VCALENDAR
VERSION:2.0
PRODID:-//Death Magnetic - ECPv5.10.1//NONSGML v1.0//EN
CALSCALE:GREGORIAN
METHOD:PUBLISH
X-WR-CALNAME:Death Magnetic
X-ORIGINAL-URL:https://deathmagnetic.pl
X-WR-CALDESC:Events for Death Magnetic
BEGIN:VTIMEZONE
TZID:Europe/Warsaw
BEGIN:DAYLIGHT
TZOFFSETFROM:+0100
TZOFFSETTO:+0200
TZNAME:CEST
DTSTART:20170326T010000
END:DAYLIGHT
BEGIN:STANDARD
TZOFFSETFROM:+0200
TZOFFSETTO:+0100
TZNAME:CET
DTSTART:20171029T010000
END:STANDARD
END:VTIMEZONE
BEGIN:VEVENT
DTSTART;TZID=Europe/Warsaw:20171004T200000
DTEND;TZID=Europe/Warsaw:20171004T220000
DTSTAMP:20260421T123341
CREATED:20170918T203637Z
LAST-MODIFIED:20170918T203637Z
UID:150878-1507147200-1507154400@deathmagnetic.pl
SUMMARY:Pearl Jam "Let's Play Two"
DESCRIPTION:Ceny biletów:\n• Warszawa: 28 zł\n• Gdańsk\, Gdynia\, Katowice\, Kraków\, Łódź\, Poznań\, Szczecin Wrocław: 26 zł \n• Pozostałe kina: 24 zł  \nBilety na „Pearl Jam – Let’s Play Two” już w sprzedaży. Można je nabyć w kasach biletowych kin oraz online na stronie www.multikino.pl.
URL:https://deathmagnetic.pl/wydarzenie/pearl-jam-lets-play-two/
LOCATION:Warszawa\, mazowieckie\, Polska
CATEGORIES:Koncerty,zagraniczne
ATTACH;FMTTYPE=image/jpeg:https://deathmagnetic.pl/wp-content/uploads/2017/09/21743847_1457001981033550_4233929148774341629_o.jpg
GEO:52.2296756;21.0122287
END:VEVENT
END:VCALENDAR