BEGIN:VCALENDAR
VERSION:2.0
PRODID:-//Death Magnetic - ECPv5.10.1//NONSGML v1.0//EN
CALSCALE:GREGORIAN
METHOD:PUBLISH
X-WR-CALNAME:Death Magnetic
X-ORIGINAL-URL:https://deathmagnetic.pl
X-WR-CALDESC:Events for Death Magnetic
BEGIN:VTIMEZONE
TZID:Europe/Warsaw
BEGIN:DAYLIGHT
TZOFFSETFROM:+0100
TZOFFSETTO:+0200
TZNAME:CEST
DTSTART:20150329T010000
END:DAYLIGHT
BEGIN:STANDARD
TZOFFSETFROM:+0200
TZOFFSETTO:+0100
TZNAME:CET
DTSTART:20151025T010000
END:STANDARD
END:VTIMEZONE
BEGIN:VEVENT
DTSTART;TZID=Europe/Warsaw:20150313T173000
DTEND;TZID=Europe/Warsaw:20150313T230000
DTSTAMP:20260421T070205
CREATED:20150219T184440Z
LAST-MODIFIED:20150311T184659Z
UID:73176-1426267800-1426287600@deathmagnetic.pl
SUMMARY:Paul Simon & Sting [ODWOŁANY]
DESCRIPTION:Ceny biletów (przedsprzedaż / w dniu koncertu): \n– Płyta Tył: 770 zł \n– Trybuny Premium: 550 zł \n– Trybuny Dolne: 495 zł \n– Trybuny Górne: 385 zł \n– Trybuny Dolne: 385 zł \nBilety dostępne na: \nLiveNation \nOtwarcie bram: 17:30 \n  \n  \nKoncert odwołano ze względu na chorobę Stinga. Niestety nie udało się przełożyć koncertu na inny termin. Informacje o zwrocie biletów dostępne są u dystrybutorów.
URL:https://deathmagnetic.pl/wydarzenie/paul-simon-sting/
LOCATION:Tauron Arena\, Stanisława Lema\, Kraków
CATEGORIES:Koncerty,zagraniczne
ATTACH;FMTTYPE=image/jpeg:https://deathmagnetic.pl/wp-content/uploads/2015/02/sting.jpg
ORGANIZER;CN="Live%20Nation":MAILTO:info@livenation.pl
GEO:50.0687315;19.9879114
X-APPLE-STRUCTURED-LOCATION;VALUE=URI;X-ADDRESS=Tauron Arena Stanisława Lema Kraków;X-APPLE-RADIUS=500;X-TITLE=Stanisława Lema:geo:19.9879114,50.0687315
END:VEVENT
END:VCALENDAR