BEGIN:VCALENDAR
VERSION:2.0
PRODID:-//Death Magnetic - ECPv5.10.1//NONSGML v1.0//EN
CALSCALE:GREGORIAN
METHOD:PUBLISH
X-WR-CALNAME:Death Magnetic
X-ORIGINAL-URL:https://deathmagnetic.pl
X-WR-CALDESC:Events for Death Magnetic
BEGIN:VTIMEZONE
TZID:Europe/Warsaw
BEGIN:DAYLIGHT
TZOFFSETFROM:+0100
TZOFFSETTO:+0200
TZNAME:CEST
DTSTART:20160327T010000
END:DAYLIGHT
BEGIN:STANDARD
TZOFFSETFROM:+0200
TZOFFSETTO:+0100
TZNAME:CET
DTSTART:20161030T010000
END:STANDARD
END:VTIMEZONE
BEGIN:VEVENT
DTSTART;TZID=Europe/Warsaw:20160810T180000
DTEND;TZID=Europe/Warsaw:20160810T235500
DTSTAMP:20260421T064249
CREATED:20160415T170203Z
LAST-MODIFIED:20160415T170410Z
UID:99281-1470852000-1470873300@deathmagnetic.pl
SUMMARY:Parkway Drive
DESCRIPTION:Bilety: 93 zł (miejsca stojące). \nDo kupienia w kasie Klubu Stodoła (Warszawa ul. Batorego 10)\nSprzedaż internetowa: www.stodola.pl\, www.ticketpro.pl\, www.eventim.pl\,www.ebilet.pl.
URL:https://deathmagnetic.pl/wydarzenie/parkway-drive/
LOCATION:Klub Kwadrat\, Stanisława Skarżyńskiego 1\, Kraków\, 31 - 866\, Polska
CATEGORIES:Koncerty,zagraniczne
ATTACH;FMTTYPE=image/jpeg:https://deathmagnetic.pl/wp-content/uploads/2016/04/parkway_drive_kwadrat.jpg
GEO:50.083983;19.9961079
X-APPLE-STRUCTURED-LOCATION;VALUE=URI;X-ADDRESS=Klub Kwadrat Stanisława Skarżyńskiego 1 Kraków 31 - 866 Polska;X-APPLE-RADIUS=500;X-TITLE=Stanisława Skarżyńskiego 1:geo:19.9961079,50.083983
END:VEVENT
END:VCALENDAR