BEGIN:VCALENDAR
VERSION:2.0
PRODID:-//Death Magnetic - ECPv5.10.1//NONSGML v1.0//EN
CALSCALE:GREGORIAN
METHOD:PUBLISH
X-WR-CALNAME:Death Magnetic
X-ORIGINAL-URL:https://deathmagnetic.pl
X-WR-CALDESC:Events for Death Magnetic
BEGIN:VTIMEZONE
TZID:Europe/Warsaw
BEGIN:DAYLIGHT
TZOFFSETFROM:+0100
TZOFFSETTO:+0200
TZNAME:CEST
DTSTART:20160327T010000
END:DAYLIGHT
BEGIN:STANDARD
TZOFFSETFROM:+0200
TZOFFSETTO:+0100
TZNAME:CET
DTSTART:20161030T010000
END:STANDARD
END:VTIMEZONE
BEGIN:VEVENT
DTSTART;TZID=Europe/Warsaw:20160809T180000
DTEND;TZID=Europe/Warsaw:20160809T235500
DTSTAMP:20260421T064244
CREATED:20160415T170318Z
LAST-MODIFIED:20160415T170318Z
UID:99278-1470765600-1470786900@deathmagnetic.pl
SUMMARY:Parkway Drive
DESCRIPTION:Bilety: 93 zł (miejsca stojące)\, 113 zł (balkon) \nDo kupienia w kasie Klubu Stodoła (Warszawa ul. Batorego 10)\nSprzedaż internetowa: www.stodola.pl\, www.ticketpro.pl\, www.eventim.pl\,www.ebilet.pl.
URL:https://deathmagnetic.pl/wydarzenie/parkway-drive-2/
LOCATION:Stodoła\, Batorego 10\, Warszawa\, mazowieckie\, Polska
CATEGORIES:Koncerty,zagraniczne
ATTACH;FMTTYPE=image/jpeg:https://deathmagnetic.pl/wp-content/uploads/2016/04/parkway_drive_stodola.jpg
GEO:52.2116;21.0101859
X-APPLE-STRUCTURED-LOCATION;VALUE=URI;X-ADDRESS=Stodoła Batorego 10 Warszawa mazowieckie Polska;X-APPLE-RADIUS=500;X-TITLE=Batorego 10:geo:21.0101859,52.2116
END:VEVENT
END:VCALENDAR