BEGIN:VCALENDAR
VERSION:2.0
PRODID:-//Death Magnetic - ECPv5.10.1//NONSGML v1.0//EN
CALSCALE:GREGORIAN
METHOD:PUBLISH
X-WR-CALNAME:Death Magnetic
X-ORIGINAL-URL:https://deathmagnetic.pl
X-WR-CALDESC:Events for Death Magnetic
BEGIN:VTIMEZONE
TZID:Europe/Warsaw
BEGIN:DAYLIGHT
TZOFFSETFROM:+0100
TZOFFSETTO:+0200
TZNAME:CEST
DTSTART:20150329T010000
END:DAYLIGHT
BEGIN:STANDARD
TZOFFSETFROM:+0200
TZOFFSETTO:+0100
TZNAME:CET
DTSTART:20151025T010000
END:STANDARD
END:VTIMEZONE
BEGIN:VEVENT
DTSTART;TZID=Europe/Warsaw:20150314T190000
DTEND;TZID=Europe/Warsaw:20150314T230000
DTSTAMP:20260421T111416
CREATED:20150302T131906Z
LAST-MODIFIED:20150302T131906Z
UID:74754-1426359600-1426374000@deathmagnetic.pl
SUMMARY:Pandemonium + Ogotay + Exmortum
DESCRIPTION:Bilety do nabycia w Pubie Łódź Kaliska ul. Piotrkowska 102 w godzinach 15.30 – 19.00 i pod numerem 602-214-751.
URL:https://deathmagnetic.pl/wydarzenie/pandemonium-ogotay-exmortum/
LOCATION:Luka\, Zgierska 26a\, Łódź
CATEGORIES:Koncerty,Polskie
ATTACH;FMTTYPE=image/jpeg:https://deathmagnetic.pl/wp-content/uploads/2015/03/Pandemonium.jpg
GEO:51.7835227;19.4522733
X-APPLE-STRUCTURED-LOCATION;VALUE=URI;X-ADDRESS=Luka Zgierska 26a Łódź;X-APPLE-RADIUS=500;X-TITLE=Zgierska 26a:geo:19.4522733,51.7835227
END:VEVENT
END:VCALENDAR