BEGIN:VCALENDAR
VERSION:2.0
PRODID:-//Death Magnetic - ECPv5.10.1//NONSGML v1.0//EN
CALSCALE:GREGORIAN
METHOD:PUBLISH
X-WR-CALNAME:Death Magnetic
X-ORIGINAL-URL:https://deathmagnetic.pl
X-WR-CALDESC:Events for Death Magnetic
BEGIN:VTIMEZONE
TZID:Europe/Warsaw
BEGIN:DAYLIGHT
TZOFFSETFROM:+0100
TZOFFSETTO:+0200
TZNAME:CEST
DTSTART:20180325T010000
END:DAYLIGHT
BEGIN:STANDARD
TZOFFSETFROM:+0200
TZOFFSETTO:+0100
TZNAME:CET
DTSTART:20181028T010000
END:STANDARD
END:VTIMEZONE
BEGIN:VEVENT
DTSTART;TZID=Europe/Warsaw:20180406T190000
DTEND;TZID=Europe/Warsaw:20180406T233000
DTSTAMP:20260421T011148
CREATED:20180322T154908Z
LAST-MODIFIED:20180322T155101Z
UID:155788-1523041200-1523057400@deathmagnetic.pl
SUMMARY:Pampeluna + Fosfor + Nikt
DESCRIPTION:Zagrają: Pampeluna\, Fosfor\, Nikt \nBilety: 15 zł\n \n 
URL:https://deathmagnetic.pl/wydarzenie/pampeluna-fosfor-nikt/
LOCATION:Klub Metro\, ul. Miszewskiego 12/13\, Gdańsk\, 80-239\, Polska
CATEGORIES:Koncerty,Polskie
ATTACH;FMTTYPE=image/jpeg:https://deathmagnetic.pl/wp-content/uploads/2018/03/Pampeluna-Fosfor-Nikt.jpg
ORGANIZER;CN="Roadhog%20Booking":MAILTO:roadhog.gigs@gmail.com
END:VEVENT
END:VCALENDAR