BEGIN:VCALENDAR
VERSION:2.0
PRODID:-//Death Magnetic - ECPv5.10.1//NONSGML v1.0//EN
CALSCALE:GREGORIAN
METHOD:PUBLISH
X-WR-CALNAME:Death Magnetic
X-ORIGINAL-URL:https://deathmagnetic.pl
X-WR-CALDESC:Events for Death Magnetic
BEGIN:VTIMEZONE
TZID:Europe/Warsaw
BEGIN:DAYLIGHT
TZOFFSETFROM:+0100
TZOFFSETTO:+0200
TZNAME:CEST
DTSTART:20160327T010000
END:DAYLIGHT
BEGIN:STANDARD
TZOFFSETFROM:+0200
TZOFFSETTO:+0100
TZNAME:CET
DTSTART:20161030T010000
END:STANDARD
END:VTIMEZONE
BEGIN:VEVENT
DTSTART;TZID=Europe/Warsaw:20161115T183000
DTEND;TZID=Europe/Warsaw:20161115T235500
DTSTAMP:20260421T001012
CREATED:20160418T112309Z
LAST-MODIFIED:20160418T112309Z
UID:99397-1479234600-1479254100@deathmagnetic.pl
SUMMARY:OVERKILL + Crowbar + Shredhead + Desecrator
DESCRIPTION:Knock Out Productions z dumą przedstawia: dwa koncerty legendy nowojorskiego thrash metalu – Overkill. Amerykańska formacja zagra w Polsce dwa koncerty – 15 listopada w warszawskiej Progresji i 16 listopada w krakowskim Kwadracie. Overkill towarzyszyć będą: Crowbar\, Shredhead i Desecrator.\n \nBilety: 90 zł w przedsprzedaż; 100 zł w dniu koncertu \nBilety dostępne na www.knockoutprod.net/sklep (druki kolekcjonerskie)
URL:https://deathmagnetic.pl/wydarzenie/overkill-crowbar-shredhead-desecrator/
LOCATION:Progresja\, Fort Wola 22\, Warszawa\, Polska
CATEGORIES:Koncerty,patronaty,zagraniczne
ATTACH;FMTTYPE=image/jpeg:https://deathmagnetic.pl/wp-content/uploads/2016/04/overkill.jpg
ORGANIZER;CN="KnockOut%20Productions":MAILTO:info@knockoutprod.net
GEO:52.224827;20.9287
X-APPLE-STRUCTURED-LOCATION;VALUE=URI;X-ADDRESS=Progresja Fort Wola 22 Warszawa Polska;X-APPLE-RADIUS=500;X-TITLE=Fort Wola 22:geo:20.9287,52.224827
END:VEVENT
END:VCALENDAR