BEGIN:VCALENDAR
VERSION:2.0
PRODID:-//Death Magnetic - ECPv5.10.1//NONSGML v1.0//EN
CALSCALE:GREGORIAN
METHOD:PUBLISH
X-WR-CALNAME:Death Magnetic
X-ORIGINAL-URL:https://deathmagnetic.pl
X-WR-CALDESC:Events for Death Magnetic
BEGIN:VTIMEZONE
TZID:Europe/Warsaw
BEGIN:DAYLIGHT
TZOFFSETFROM:+0100
TZOFFSETTO:+0200
TZNAME:CEST
DTSTART:20170326T010000
END:DAYLIGHT
BEGIN:STANDARD
TZOFFSETFROM:+0200
TZOFFSETTO:+0100
TZNAME:CET
DTSTART:20171029T010000
END:STANDARD
END:VTIMEZONE
BEGIN:VEVENT
DTSTART;TZID=Europe/Warsaw:20171031T190000
DTEND;TZID=Europe/Warsaw:20171031T230000
DTSTAMP:20260420T083600
CREATED:20170607T115534Z
LAST-MODIFIED:20170607T115534Z
UID:119035-1509476400-1509490800@deathmagnetic.pl
SUMMARY:Our Last Night + Blessthefall + The Color Morale
DESCRIPTION:31 października 2017 (wtorek)\nProgresja (ul. Fort Wola 22)\, NOISE STAGE\nOur Last Night\, Blessthefall\, The Color Morale \nBilety:\n69 PLN (przedsprzedaż)\nKOLEKCJONERSKIE:\nProgresja.com – http://bit.ly/OLN_warsaw \nZWYKŁE:\nSalony EMPIK\nEventim – http://bit.ly/2rXcKNN\neBilet – http://bit.ly/2rX2jd4\nGoOut – http://bit.ly/2rseFt9 \n79 PLN (w dniu koncertu)
URL:https://deathmagnetic.pl/wydarzenie/our-last-night-blessthefall-the-color-morale/
LOCATION:Progresja\, Fort Wola 22\, Warszawa\, Polska
CATEGORIES:Koncerty,zagraniczne
ATTACH;FMTTYPE=image/jpeg:https://deathmagnetic.pl/wp-content/uploads/2017/06/OLN-plakat-mały.jpg
GEO:52.224827;20.9287
X-APPLE-STRUCTURED-LOCATION;VALUE=URI;X-ADDRESS=Progresja Fort Wola 22 Warszawa Polska;X-APPLE-RADIUS=500;X-TITLE=Fort Wola 22:geo:20.9287,52.224827
END:VEVENT
END:VCALENDAR