BEGIN:VCALENDAR
VERSION:2.0
PRODID:-//Death Magnetic - ECPv5.10.1//NONSGML v1.0//EN
CALSCALE:GREGORIAN
METHOD:PUBLISH
X-WR-CALNAME:Death Magnetic
X-ORIGINAL-URL:https://deathmagnetic.pl
X-WR-CALDESC:Events for Death Magnetic
BEGIN:VTIMEZONE
TZID:Europe/Warsaw
BEGIN:DAYLIGHT
TZOFFSETFROM:+0100
TZOFFSETTO:+0200
TZNAME:CEST
DTSTART:20160327T010000
END:DAYLIGHT
BEGIN:STANDARD
TZOFFSETFROM:+0200
TZOFFSETTO:+0100
TZNAME:CET
DTSTART:20161030T010000
END:STANDARD
END:VTIMEZONE
BEGIN:VEVENT
DTSTART;TZID=Europe/Warsaw:20160314T193000
DTEND;TZID=Europe/Warsaw:20160314T230000
DTSTAMP:20260421T094651
CREATED:20160206T162307Z
LAST-MODIFIED:20160206T162307Z
UID:96959-1457983800-1457996400@deathmagnetic.pl
SUMMARY:Oranssi Pazuzu
DESCRIPTION:Zespół:\nOranssi Pazuzu   \nBilety:\n50 zł (przedsprzedaż) \n60 zł (w dniu koncertu)
URL:https://deathmagnetic.pl/wydarzenie/oranssi-pazuzu-3/
LOCATION:Rotunda Centrum Kultury\, Oleandry 1\, Kraków\, Polska
CATEGORIES:Koncerty,Polskie
ATTACH;FMTTYPE=image/jpeg:https://deathmagnetic.pl/wp-content/uploads/2016/02/oranssi-pazuzu.jpg
ORGANIZER;CN="Left%20Hand%20Sounds":MAILTO:info@lefthandsounds.org
GEO:50.0599625;19.9209144
X-APPLE-STRUCTURED-LOCATION;VALUE=URI;X-ADDRESS=Rotunda Centrum Kultury Oleandry 1 Kraków Polska;X-APPLE-RADIUS=500;X-TITLE=Oleandry 1:geo:19.9209144,50.0599625
END:VEVENT
END:VCALENDAR