BEGIN:VCALENDAR
VERSION:2.0
PRODID:-//Death Magnetic - ECPv5.10.1//NONSGML v1.0//EN
CALSCALE:GREGORIAN
METHOD:PUBLISH
X-WR-CALNAME:Death Magnetic
X-ORIGINAL-URL:https://deathmagnetic.pl
X-WR-CALDESC:Events for Death Magnetic
BEGIN:VTIMEZONE
TZID:Europe/Warsaw
BEGIN:DAYLIGHT
TZOFFSETFROM:+0100
TZOFFSETTO:+0200
TZNAME:CEST
DTSTART:20160327T010000
END:DAYLIGHT
BEGIN:STANDARD
TZOFFSETFROM:+0200
TZOFFSETTO:+0100
TZNAME:CET
DTSTART:20161030T010000
END:STANDARD
END:VTIMEZONE
BEGIN:VEVENT
DTSTART;VALUE=DATE:20160603
DTEND;VALUE=DATE:20160605
DTSTAMP:20260420T191656
CREATED:20160516T075300Z
LAST-MODIFIED:20160516T075317Z
UID:100715-1464912000-1465084799@deathmagnetic.pl
SUMMARY:Orange Warsaw Festival 2016
DESCRIPTION:Artyści: \n3 czerwca: Lana Del Rey\, Skunk Anansie\, Die Antwoord\, Blossoms\, Kaliber 44\, XXANAXX\, Sorry Boys\, Marcelina \n4 czerwca: Skrillex\, Editors\, Tom Odell\, Daughter\, Julia Marcell\, Schoolboy Q\, Bovska\, MØ\, Ten Typ Mes\, Natalia Przybysz \nBilety: \n\n\n\nRegular Tickets – dostępne od 22.03 do 22.05 lub do wyczerpania puli biletów\n\n\nKarnet 2 dni\n379 zł kup bilet\n\n\nKarnet 2 dni D (dla osób z niepełnosprawnością)*\n379 zł kup bilet\n\n\nKarnet 2 dni z 15% rabatem dla klientów Orange**\n322 zł kup bilet\n\n\nKarnet 2 dni D (dla osób z niepełnosprawnością) z 15% rabatem dla klientów Orange**\n322 zł kup bilet\n\n\nKarnet 2 dni dla dzieci***\n189 zł kup bilet\n\n\n\n\n\nBilet jednodniowy 3 czerwca\n219 zł kup bilet\n\n\nBilet jednodniowy 3 czerwca D (dla osób z niepełnosprawnością)*\n219 zł kup bilet\n\n\nBilet jednodniowy 3 czerwca z 15% rabatem dla klientów Orange**\n186 zł kup bilet\n\n\nBilet jednodniowy 3 czerwca D (dla osób z niepełnosprawnością) z 15% rabatem dla klientów Orange**\n186 zł kup bilet\n\n\nBilet jednodniowy 3 czerwca dla dzieci***\n109 zł kup bilet\n\n\n\n\n\nBilet jednodniowy 4 czerwca\n219 zł kup bilet\n\n\nBilet jednodniowy 4 czerwca D (dla osób z niepełnosprawnością)*\n219 zł kup bilet\n\n\nBilet jednodniowy 4 czerwca z 15% rabatem dla klientów Orange**\n186 zł kup bilet\n\n\nBilet jednodniowy 4 czerwca D (dla osób z niepełnosprawnością) z 15% rabatem dla klientów Orange**\n186 zł kup bilet\n\n\nBilet jednodniowy 4 czerwca dla dzieci***\n109 zł kup bilet\n\n\n\n\n\nPakiet łączony: karnet Orange Warsaw Festival + karnet Open’er Festival (bez pola namiotowego)\n856 zł kup bilet\n\n\n\n\n\nBilet parkingowy****\n45 zł kup bilet\n\n\nVIP (bezpłatny parking\, wstęp do strefy VIP\, trybuna z miejscami siedzącymi z widokiem na scenę – liczba miejsc ograniczona\, osobne wejście oraz punkt wymiany biletów na opaski\, limitowane\, bezpłatne napoje). UWAGA: Tegoroczna lokalizacja strefy VIP na drugim piętrze w istniejącym zabytkowym budynku  na Służewcu wyklucza niestety możliwość samodzielnego dotarcia do tej strefy dla osób poruszających się na wszelkiego typu wózkach (w budynku nie ma wind).\n\n\nKarnet 2 dni VIP\n899 zł kup bilet\n\n\nBilet jednodniowy 3 czerwca VIP\n539 zł kup bilet\n\n\nBilet jednodniowy 4 czerwca VIP\n539 zł kup bilet\n\n\n\n\n\n\n\n\nFinal Call Tickets – dostępne od 23.05 do wyczerpania puli biletów\n\n\nKarnet 2 dni\n399 zł\n\n\nKarnet 2 dni z 15% rabatem dla klientów Orange\n339 zł\n\n\nBilet jednodniowy 3 czerwca\n239 zł\n\n\nBilet jednodniowy 3 czerwca z 15% rabatem dla klientów Orange\n203 zł\n\n\nBilet jednodniowy 4 czerwca\n239 zł\n\n\nBilet jednodniowy 4 czerwca z 15% rabatem dla klientów Orange\n203 zł\n\n\nPakiet łączony: karnet Orange Warsaw Festival + karnet Open’er Festival\n873 zł\n\n\n\n  \nBilety dostępne na orangewarsawfestival.pl; ebilet.pl oraz altersklep.pl Lista stacjonarnych punktów sprzedaży.
URL:https://deathmagnetic.pl/wydarzenie/orange-warsaw-festival-2016/
LOCATION:Służewiec\, Warszawa
CATEGORIES:Festiwale
ATTACH;FMTTYPE=image/jpeg:https://deathmagnetic.pl/wp-content/uploads/2016/05/13177915_10154352095508984_5535192352528559737_n.jpg
ORGANIZER;CN="AlterArt":MAILTO:klub@alterart.pl
GEO:52.2296756;21.0122287
END:VEVENT
END:VCALENDAR