BEGIN:VCALENDAR
VERSION:2.0
PRODID:-//Death Magnetic - ECPv5.10.1//NONSGML v1.0//EN
CALSCALE:GREGORIAN
METHOD:PUBLISH
X-WR-CALNAME:Death Magnetic
X-ORIGINAL-URL:https://deathmagnetic.pl
X-WR-CALDESC:Events for Death Magnetic
BEGIN:VTIMEZONE
TZID:Europe/Warsaw
BEGIN:DAYLIGHT
TZOFFSETFROM:+0100
TZOFFSETTO:+0200
TZNAME:CEST
DTSTART:20150329T010000
END:DAYLIGHT
BEGIN:STANDARD
TZOFFSETFROM:+0200
TZOFFSETTO:+0100
TZNAME:CET
DTSTART:20151025T010000
END:STANDARD
END:VTIMEZONE
BEGIN:VEVENT
DTSTART;TZID=Europe/Warsaw:20151125T190000
DTEND;TZID=Europe/Warsaw:20151125T233000
DTSTAMP:20260421T073909
CREATED:20151012T130903Z
LAST-MODIFIED:20151012T130903Z
UID:93143-1448478000-1448494200@deathmagnetic.pl
SUMMARY:Operation: Mindcrime
DESCRIPTION:Ceny biletów: przedsprzedaż – 93 PLN | w dniu – 105 PLN\nSprzedaż biletów kolekcjonerskich: http://progresja.com/events/operation-mindcrime-multi/\nOperation: Mindcrime to nie tylko zespół\, lecz przede wszystkim wyrafinowany projekt muzyczny. Tworzą go artyści największego kalibru\, osobowości muzyczne\, których łączy wspólna artystyczna wizja.\nPod wodzą Tate’a w skład grupy wchodzą basiści: Dave Ellefson (Megadeth\, Metal Allegiance) i John Moyer (Disturbed\, Adrenaline Mob)\, perkusiści: Simon Wright (AC/DC)\, Scott Mercado (Candlebox) i Brian Tichy (Billy Idol\, Ozzy Osbourne)\, gitarzyści: Kelly Gray (Quensryche) i Scott Moughton (Geoff Tate)\, klawiszowiec: Randy Gane (Myth) i wokalista Mark Daly (The Voodoos).
URL:https://deathmagnetic.pl/wydarzenie/operation-mindcrime/
LOCATION:Progresja\, Fort Wola 22\, Warszawa\, Polska
CATEGORIES:Koncerty,zagraniczne
ATTACH;FMTTYPE=image/jpeg:https://deathmagnetic.pl/wp-content/uploads/2015/10/operationmindcrime.jpg
GEO:52.224827;20.9287
X-APPLE-STRUCTURED-LOCATION;VALUE=URI;X-ADDRESS=Progresja Fort Wola 22 Warszawa Polska;X-APPLE-RADIUS=500;X-TITLE=Fort Wola 22:geo:20.9287,52.224827
END:VEVENT
END:VCALENDAR