BEGIN:VCALENDAR
VERSION:2.0
PRODID:-//Death Magnetic - ECPv5.10.1//NONSGML v1.0//EN
CALSCALE:GREGORIAN
METHOD:PUBLISH
X-WR-CALNAME:Death Magnetic
X-ORIGINAL-URL:https://deathmagnetic.pl
X-WR-CALDESC:Events for Death Magnetic
BEGIN:VTIMEZONE
TZID:Europe/Warsaw
BEGIN:DAYLIGHT
TZOFFSETFROM:+0100
TZOFFSETTO:+0200
TZNAME:CEST
DTSTART:20150329T010000
END:DAYLIGHT
BEGIN:STANDARD
TZOFFSETFROM:+0200
TZOFFSETTO:+0100
TZNAME:CET
DTSTART:20151025T010000
END:STANDARD
END:VTIMEZONE
BEGIN:VEVENT
DTSTART;TZID=Europe/Warsaw:20150701T160000
DTEND;TZID=Europe/Warsaw:20150704T040000
DTSTAMP:20260420T105735
CREATED:20150427T163937Z
LAST-MODIFIED:20150427T164025Z
UID:81581-1435766400-1435982400@deathmagnetic.pl
SUMMARY:Open'er Festival 2015
DESCRIPTION:Refused\, Enter shikari\, Marmozets\, Eagles of Death Metal i wielu innych. \nCeny biletów: \nKarnet 4-dniowy – 550 PLN \nKarnet 4-dniowy + pole namiotowe – 630 PLN \nKarnet weekendowy (piątek\, sobota) – 350 PLN \nBilety jednodniowe – 207 PLN \nBilety dla dzieci: Od 3 do 12 roku życia – 50% ceny: karnet 4-dniowy – 275 PLN\, karnet 4-dniowy + pole namiotowe – 315 PLN\, karnet weekendowy – 175 PLN\, bilety jednodniowe – 103 PLN \nDzieci do 3 roku życia: udział bezpłatny.
URL:https://deathmagnetic.pl/wydarzenie/opener-festival-2015/
LOCATION:Gdynia-Kosakowo\, ul. Gen. W. Andersa 2A\, Gdynia\, Polska
CATEGORIES:Festiwale
ATTACH;FMTTYPE=image/jpeg:https://deathmagnetic.pl/wp-content/uploads/2015/04/opener-festival.jpg
END:VEVENT
END:VCALENDAR