BEGIN:VCALENDAR
VERSION:2.0
PRODID:-//Death Magnetic - ECPv5.10.1//NONSGML v1.0//EN
CALSCALE:GREGORIAN
METHOD:PUBLISH
X-WR-CALNAME:Death Magnetic
X-ORIGINAL-URL:https://deathmagnetic.pl
X-WR-CALDESC:Events for Death Magnetic
BEGIN:VTIMEZONE
TZID:Europe/Warsaw
BEGIN:DAYLIGHT
TZOFFSETFROM:+0100
TZOFFSETTO:+0200
TZNAME:CEST
DTSTART:20160327T010000
END:DAYLIGHT
BEGIN:STANDARD
TZOFFSETFROM:+0200
TZOFFSETTO:+0100
TZNAME:CET
DTSTART:20161030T010000
END:STANDARD
END:VTIMEZONE
BEGIN:VEVENT
DTSTART;TZID=Europe/Warsaw:20160228T190000
DTEND;TZID=Europe/Warsaw:20160228T230000
DTSTAMP:20260420T214615
CREATED:20151228T104428Z
LAST-MODIFIED:20151228T104607Z
UID:96193-1456686000-1456700400@deathmagnetic.pl
SUMMARY:Omnium Gatherum + Draconian + Year Of The Goat + Oceanwake
DESCRIPTION:  \nCeny biletów: \n60 zł (na stronie Ticketpro)\n70 zł (w dniu koncertu) \nWięcej szczegółów wkrótce. \n 
URL:https://deathmagnetic.pl/wydarzenie/omnium-gatherum-draconian-year-of-the-goat-oceanwake/
LOCATION:Klub Muzyczny Liverpool\, Świdnicka 37\, Wrocław\, Polska
CATEGORIES:Koncerty,zagraniczne
ATTACH;FMTTYPE=image/jpeg:https://deathmagnetic.pl/wp-content/uploads/2015/12/draconian.jpg
GEO:51.104006;17.030348
X-APPLE-STRUCTURED-LOCATION;VALUE=URI;X-ADDRESS=Klub Muzyczny Liverpool Świdnicka 37 Wrocław Polska;X-APPLE-RADIUS=500;X-TITLE=Świdnicka 37:geo:17.030348,51.104006
END:VEVENT
END:VCALENDAR