BEGIN:VCALENDAR
VERSION:2.0
PRODID:-//Death Magnetic - ECPv5.10.1//NONSGML v1.0//EN
CALSCALE:GREGORIAN
METHOD:PUBLISH
X-WR-CALNAME:Death Magnetic
X-ORIGINAL-URL:https://deathmagnetic.pl
X-WR-CALDESC:Events for Death Magnetic
BEGIN:VTIMEZONE
TZID:Europe/Warsaw
BEGIN:DAYLIGHT
TZOFFSETFROM:+0100
TZOFFSETTO:+0200
TZNAME:CEST
DTSTART:20160327T010000
END:DAYLIGHT
BEGIN:STANDARD
TZOFFSETFROM:+0200
TZOFFSETTO:+0100
TZNAME:CET
DTSTART:20161030T010000
END:STANDARD
END:VTIMEZONE
BEGIN:VEVENT
DTSTART;TZID=Europe/Warsaw:20160229T190000
DTEND;TZID=Europe/Warsaw:20160229T230000
DTSTAMP:20260420T233054
CREATED:20160110T210337Z
LAST-MODIFIED:20160110T210337Z
UID:96422-1456772400-1456786800@deathmagnetic.pl
SUMMARY:Omnium Gatherum + Draconian + Year Of The Goat + Oceanwake
DESCRIPTION:  \nCeny biletów: \n60 zł (na stronie Ticketpro)\n70 zł (w dniu koncertu) \nWięcej szczegółów wkrótce. \n 
URL:https://deathmagnetic.pl/wydarzenie/omnium-gatherum-draconian-year-of-the-goat-oceanwake-2/
LOCATION:Rotunda Centrum Kultury\, Oleandry 1\, Kraków\, Polska
CATEGORIES:Koncerty,zagraniczne
ATTACH;FMTTYPE=image/jpeg:https://deathmagnetic.pl/wp-content/uploads/2016/01/draconian1.jpg
GEO:50.0599625;19.9209144
X-APPLE-STRUCTURED-LOCATION;VALUE=URI;X-ADDRESS=Rotunda Centrum Kultury Oleandry 1 Kraków Polska;X-APPLE-RADIUS=500;X-TITLE=Oleandry 1:geo:19.9209144,50.0599625
END:VEVENT
END:VCALENDAR