BEGIN:VCALENDAR
VERSION:2.0
PRODID:-//Death Magnetic - ECPv5.10.1//NONSGML v1.0//EN
CALSCALE:GREGORIAN
METHOD:PUBLISH
X-WR-CALNAME:Death Magnetic
X-ORIGINAL-URL:https://deathmagnetic.pl
X-WR-CALDESC:Events for Death Magnetic
BEGIN:VTIMEZONE
TZID:Europe/Warsaw
BEGIN:DAYLIGHT
TZOFFSETFROM:+0100
TZOFFSETTO:+0200
TZNAME:CEST
DTSTART:20180325T010000
END:DAYLIGHT
BEGIN:STANDARD
TZOFFSETFROM:+0200
TZOFFSETTO:+0100
TZNAME:CET
DTSTART:20181028T010000
END:STANDARD
END:VTIMEZONE
BEGIN:VEVENT
DTSTART;TZID=Europe/Warsaw:20180803T150000
DTEND;TZID=Europe/Warsaw:20180805T233000
DTSTAMP:20260420T222056
CREATED:20180118T181156Z
LAST-MODIFIED:20180118T181156Z
UID:154373-1533308400-1533511800@deathmagnetic.pl
SUMMARY:OFF FESTIVAL 2018
DESCRIPTION:Grizzly Bear\nJohn Maus\nClap Your Hands Say Yeah\nMarlon Williams\nTurbonegro\nBigFreedia\nEgyptian Lover\nAldous Hardling
URL:https://deathmagnetic.pl/wydarzenie/off-festival-2018/
LOCATION:Dolina Trzech Stawów\, Dolina Trzech Stawów\, Katowice\, Polska
CATEGORIES:Festiwale,Polskie
ATTACH;FMTTYPE=image/png:https://deathmagnetic.pl/wp-content/uploads/2018/01/off.png
GEO:50.2433861;19.049007
X-APPLE-STRUCTURED-LOCATION;VALUE=URI;X-ADDRESS=Dolina Trzech Stawów Dolina Trzech Stawów Katowice Polska;X-APPLE-RADIUS=500;X-TITLE=Dolina Trzech Stawów:geo:19.049007,50.2433861
END:VEVENT
END:VCALENDAR