BEGIN:VCALENDAR
VERSION:2.0
PRODID:-//Death Magnetic - ECPv5.10.1//NONSGML v1.0//EN
CALSCALE:GREGORIAN
METHOD:PUBLISH
X-WR-CALNAME:Death Magnetic
X-ORIGINAL-URL:https://deathmagnetic.pl
X-WR-CALDESC:Events for Death Magnetic
BEGIN:VTIMEZONE
TZID:Europe/Warsaw
BEGIN:DAYLIGHT
TZOFFSETFROM:+0100
TZOFFSETTO:+0200
TZNAME:CEST
DTSTART:20160327T010000
END:DAYLIGHT
BEGIN:STANDARD
TZOFFSETFROM:+0200
TZOFFSETTO:+0100
TZNAME:CET
DTSTART:20161030T010000
END:STANDARD
END:VTIMEZONE
BEGIN:VEVENT
DTSTART;TZID=Europe/Warsaw:20160805T130000
DTEND;TZID=Europe/Warsaw:20160807T235500
DTSTAMP:20260421T002702
CREATED:20151215T155328Z
LAST-MODIFIED:20160419T114700Z
UID:95345-1470402000-1470614100@deathmagnetic.pl
SUMMARY:Off Festival 2016
DESCRIPTION:Zagrają dla Was m.in. \nAndrew Weatherall b2b Roman Flügel\nAnohni\nAta Kak\nBasia Bulat\nBeach Slang\nBrodka\nClutch\nDaniel Avery\nDevendra Banhart\nDJ Koze\nFidlar\nFlatbush Zombies\nGoat\nGusGus\nGZA\nIslam Chipsy\nJaga Jazzist\nJambinai\nJanusz Prusinowski Kompania\nJenny Hval\nKaliber 44\nKiasmos\nLightning Bolt\nLiima\nLush\nMachinedrum\nMass Gothic\nMgła\nMinor Victories\nMudhoney\nMutoid Man\nNapalm Death\nOdpoczno\nOrlando Julius & the Heliocentrics\nPowell\nRosa Vertov\nSBB gra „NOWY HORYZONT”\nShow Me The Body\nSleaford Mods\nSo Slow\nSyny\nThe Kills\nThundercat\nWillis Earl Beal\nYung Lean\nZimpel/Ziołek\nZomby \nKarnety w promocyjnej cenie już w sprzedaży\, tylko na www.offsklep.pl. Cena: 180 zł (później 230).
URL:https://deathmagnetic.pl/wydarzenie/off-festival-2016/
LOCATION:Dolina Trzech Stawów\, Dolina Trzech Stawów\, Katowice\, Polska
CATEGORIES:Festiwale
ATTACH;FMTTYPE=image/jpeg:https://deathmagnetic.pl/wp-content/uploads/2015/12/Off_Festival_2016.jpg
ORGANIZER;CN="Off%20Festival":MAILTO:info@off-festival.pl
GEO:50.2433861;19.049007
X-APPLE-STRUCTURED-LOCATION;VALUE=URI;X-ADDRESS=Dolina Trzech Stawów Dolina Trzech Stawów Katowice Polska;X-APPLE-RADIUS=500;X-TITLE=Dolina Trzech Stawów:geo:19.049007,50.2433861
END:VEVENT
END:VCALENDAR