BEGIN:VCALENDAR
VERSION:2.0
PRODID:-//Death Magnetic - ECPv5.10.1//NONSGML v1.0//EN
CALSCALE:GREGORIAN
METHOD:PUBLISH
X-WR-CALNAME:Death Magnetic
X-ORIGINAL-URL:https://deathmagnetic.pl
X-WR-CALDESC:Events for Death Magnetic
BEGIN:VTIMEZONE
TZID:Europe/Warsaw
BEGIN:DAYLIGHT
TZOFFSETFROM:+0100
TZOFFSETTO:+0200
TZNAME:CEST
DTSTART:20160327T010000
END:DAYLIGHT
BEGIN:STANDARD
TZOFFSETFROM:+0200
TZOFFSETTO:+0100
TZNAME:CET
DTSTART:20161030T010000
END:STANDARD
END:VTIMEZONE
BEGIN:VEVENT
DTSTART;TZID=Europe/Warsaw:20160929T180000
DTEND;TZID=Europe/Warsaw:20160929T235500
DTSTAMP:20260421T062728
CREATED:20160705T095355Z
LAST-MODIFIED:20160705T095355Z
UID:102973-1475172000-1475193300@deathmagnetic.pl
SUMMARY:Obscure Sphinx + Sunnata + Sounds Like The End Of The World
DESCRIPTION:Więcej informacji już wkrótce!
URL:https://deathmagnetic.pl/wydarzenie/obscure-sphinx-sunnata-sounds-like-the-end-of-the-world/
LOCATION:Proxima\, ul. Żwirki i Wigury 99\, Warszawa\, Polska
ATTACH;FMTTYPE=image/jpeg:https://deathmagnetic.pl/wp-content/uploads/2016/07/obscure-sphinx-plakat-2016-trasa-polska.jpg
GEO:52.212567;20.987187
X-APPLE-STRUCTURED-LOCATION;VALUE=URI;X-ADDRESS=Proxima ul. Żwirki i Wigury 99 Warszawa Polska;X-APPLE-RADIUS=500;X-TITLE=ul. Żwirki i Wigury 99:geo:20.987187,52.212567
END:VEVENT
END:VCALENDAR