BEGIN:VCALENDAR
VERSION:2.0
PRODID:-//Death Magnetic - ECPv5.10.1//NONSGML v1.0//EN
CALSCALE:GREGORIAN
METHOD:PUBLISH
X-WR-CALNAME:Death Magnetic
X-ORIGINAL-URL:https://deathmagnetic.pl
X-WR-CALDESC:Events for Death Magnetic
BEGIN:VTIMEZONE
TZID:Europe/Warsaw
BEGIN:DAYLIGHT
TZOFFSETFROM:+0100
TZOFFSETTO:+0200
TZNAME:CEST
DTSTART:20160327T010000
END:DAYLIGHT
BEGIN:STANDARD
TZOFFSETFROM:+0200
TZOFFSETTO:+0100
TZNAME:CET
DTSTART:20161030T010000
END:STANDARD
END:VTIMEZONE
BEGIN:VEVENT
DTSTART;TZID=Europe/Warsaw:20161001T180000
DTEND;TZID=Europe/Warsaw:20161001T235500
DTSTAMP:20260420T092118
CREATED:20160705T172018Z
LAST-MODIFIED:20160920T125150Z
UID:102996-1475344800-1475366100@deathmagnetic.pl
SUMMARY:Obscure Sphinx + Sunnata + Sounds Like The End Of The World
DESCRIPTION:Bilety na koncert w cenie 40 zł (przedsprzedaż) i 50 zł (w dniu koncertu) dostępne są w klubie Kwadrat oraz w sklepie Metalshopie na ul. Długiej 17 w Krakowie. Internetowa sprzedaż biletów w systemie ticketpro.
URL:https://deathmagnetic.pl/wydarzenie/obscure-sphinx-sunnata-sounds-like-the-end-of-the-world-2/
LOCATION:Klub Kwadrat\, Stanisława Skarżyńskiego 1\, Kraków\, 31 - 866\, Polska
CATEGORIES:Koncerty,patronaty,Polskie
ATTACH;FMTTYPE=image/jpeg:https://deathmagnetic.pl/wp-content/uploads/2016/09/OS_KRAKÓW_KWADRAT.jpg
GEO:50.083983;19.9961079
X-APPLE-STRUCTURED-LOCATION;VALUE=URI;X-ADDRESS=Klub Kwadrat Stanisława Skarżyńskiego 1 Kraków 31 - 866 Polska;X-APPLE-RADIUS=500;X-TITLE=Stanisława Skarżyńskiego 1:geo:19.9961079,50.083983
END:VEVENT
END:VCALENDAR