BEGIN:VCALENDAR
VERSION:2.0
PRODID:-//Death Magnetic - ECPv5.10.1//NONSGML v1.0//EN
CALSCALE:GREGORIAN
METHOD:PUBLISH
X-WR-CALNAME:Death Magnetic
X-ORIGINAL-URL:https://deathmagnetic.pl
X-WR-CALDESC:Events for Death Magnetic
BEGIN:VTIMEZONE
TZID:Europe/Warsaw
BEGIN:DAYLIGHT
TZOFFSETFROM:+0100
TZOFFSETTO:+0200
TZNAME:CEST
DTSTART:20150329T010000
END:DAYLIGHT
BEGIN:STANDARD
TZOFFSETFROM:+0200
TZOFFSETTO:+0100
TZNAME:CET
DTSTART:20151025T010000
END:STANDARD
END:VTIMEZONE
BEGIN:VEVENT
DTSTART;TZID=Europe/Warsaw:20150508T183000
DTEND;TZID=Europe/Warsaw:20150508T230000
DTSTAMP:20260420T185206
CREATED:20150316T194449Z
LAST-MODIFIED:20150316T194449Z
UID:75896-1431109800-1431126000@deathmagnetic.pl
SUMMARY:Obscure Sphinx + Spirit + Butterfly Trajectory
DESCRIPTION:Ceny biletów wkrótce. \nStart: 18:30\nKoniec imprezy: 23:00
URL:https://deathmagnetic.pl/wydarzenie/obscure-sphinx-spirit-butterfly-trajectory-2/
LOCATION:Klub Muzyczny Liverpool\, Świdnicka 37\, Wrocław\, Polska
CATEGORIES:Koncerty,Polskie
ATTACH;FMTTYPE=image/jpeg:https://deathmagnetic.pl/wp-content/uploads/2015/03/obscure-sphinx.jpg
ORGANIZER;CN="Klub%20Muzyczny%20Liverpool":MAILTO:klub@liverpool.wroclaw.pl
GEO:51.104006;17.030348
X-APPLE-STRUCTURED-LOCATION;VALUE=URI;X-ADDRESS=Klub Muzyczny Liverpool Świdnicka 37 Wrocław Polska;X-APPLE-RADIUS=500;X-TITLE=Świdnicka 37:geo:17.030348,51.104006
END:VEVENT
END:VCALENDAR