BEGIN:VCALENDAR
VERSION:2.0
PRODID:-//Death Magnetic - ECPv5.10.1//NONSGML v1.0//EN
CALSCALE:GREGORIAN
METHOD:PUBLISH
X-WR-CALNAME:Death Magnetic
X-ORIGINAL-URL:https://deathmagnetic.pl
X-WR-CALDESC:Events for Death Magnetic
BEGIN:VTIMEZONE
TZID:Europe/Warsaw
BEGIN:DAYLIGHT
TZOFFSETFROM:+0100
TZOFFSETTO:+0200
TZNAME:CEST
DTSTART:20170326T010000
END:DAYLIGHT
BEGIN:STANDARD
TZOFFSETFROM:+0200
TZOFFSETTO:+0100
TZNAME:CET
DTSTART:20171029T010000
END:STANDARD
END:VTIMEZONE
BEGIN:VEVENT
DTSTART;TZID=Europe/Warsaw:20170325T190000
DTEND;TZID=Europe/Warsaw:20170325T230000
DTSTAMP:20260420T144522
CREATED:20170309T181232Z
LAST-MODIFIED:20170309T181232Z
UID:113416-1490468400-1490482800@deathmagnetic.pl
SUMMARY:Obscure Sphinx + Legalize Crime + Gentle Art Of Cooking People
DESCRIPTION:Bilety: 35zł (przedsprzedaż)\, 40zł (w dniu koncertu)
URL:https://deathmagnetic.pl/wydarzenie/obscure-sphinx-legalize-crime-gentle-art-of-cooking-people/
LOCATION:Klub Firlej\, ul. Grabiszyńska 56\, Wrocław\, 53-504\, Polska
CATEGORIES:Koncerty,Polskie
ATTACH;FMTTYPE=image/png:https://deathmagnetic.pl/wp-content/uploads/2017/03/os_top.png
ORGANIZER;CN="Left%20Hand%20Sounds":MAILTO:info@lefthandsounds.org
GEO:51.1023114;17.0145386
X-APPLE-STRUCTURED-LOCATION;VALUE=URI;X-ADDRESS=Klub Firlej ul. Grabiszyńska 56 Wrocław 53-504 Polska;X-APPLE-RADIUS=500;X-TITLE=ul. Grabiszyńska 56:geo:17.0145386,51.1023114
END:VEVENT
END:VCALENDAR