BEGIN:VCALENDAR
VERSION:2.0
PRODID:-//Death Magnetic - ECPv5.10.1//NONSGML v1.0//EN
CALSCALE:GREGORIAN
METHOD:PUBLISH
X-WR-CALNAME:Death Magnetic
X-ORIGINAL-URL:https://deathmagnetic.pl
X-WR-CALDESC:Events for Death Magnetic
BEGIN:VTIMEZONE
TZID:Europe/Warsaw
BEGIN:DAYLIGHT
TZOFFSETFROM:+0100
TZOFFSETTO:+0200
TZNAME:CEST
DTSTART:20160327T010000
END:DAYLIGHT
BEGIN:STANDARD
TZOFFSETFROM:+0200
TZOFFSETTO:+0100
TZNAME:CET
DTSTART:20161030T010000
END:STANDARD
END:VTIMEZONE
BEGIN:VEVENT
DTSTART;TZID=Europe/Warsaw:20160409T190000
DTEND;TZID=Europe/Warsaw:20160409T230000
DTSTAMP:20260420T224017
CREATED:20160407T191614Z
LAST-MODIFIED:20160407T191614Z
UID:99034-1460228400-1460242800@deathmagnetic.pl
SUMMARY:OBERSCHLESIEN symfonicznie
DESCRIPTION:Ceny biletów: \n– 258zł – VIP\n– 147zł\, 129zł\, 99zł – normalny \nBilety dostępne na Ticketpro.pl \n 
URL:https://deathmagnetic.pl/wydarzenie/oberschlesien-symfonicznie/
LOCATION:Dom Muzyki i Tańca w Zabrzu\, ul. De Gaulle'a 17\, Zabrze\, Polska
CATEGORIES:Koncerty,Polskie
ATTACH;FMTTYPE=image/jpeg:https://deathmagnetic.pl/wp-content/uploads/2016/04/obershleisen.jpg
GEO:50.3034788;18.7765788
X-APPLE-STRUCTURED-LOCATION;VALUE=URI;X-ADDRESS=Dom Muzyki i Tańca w Zabrzu ul. De Gaulle'a 17 Zabrze Polska;X-APPLE-RADIUS=500;X-TITLE=ul. De Gaulle'a 17:geo:18.7765788,50.3034788
END:VEVENT
END:VCALENDAR