BEGIN:VCALENDAR
VERSION:2.0
PRODID:-//Death Magnetic - ECPv5.10.1//NONSGML v1.0//EN
CALSCALE:GREGORIAN
METHOD:PUBLISH
X-WR-CALNAME:Death Magnetic
X-ORIGINAL-URL:https://deathmagnetic.pl
X-WR-CALDESC:Events for Death Magnetic
BEGIN:VTIMEZONE
TZID:Europe/Warsaw
BEGIN:DAYLIGHT
TZOFFSETFROM:+0100
TZOFFSETTO:+0200
TZNAME:CEST
DTSTART:20180325T010000
END:DAYLIGHT
BEGIN:STANDARD
TZOFFSETFROM:+0200
TZOFFSETTO:+0100
TZNAME:CET
DTSTART:20181028T010000
END:STANDARD
END:VTIMEZONE
BEGIN:VEVENT
DTSTART;TZID=Europe/Warsaw:20180130T190000
DTEND;TZID=Europe/Warsaw:20180130T220000
DTSTAMP:20260421T121458
CREATED:20171030T122048Z
LAST-MODIFIED:20171030T122133Z
UID:151790-1517338800-1517349600@deathmagnetic.pl
SUMMARY:Nothing But Thieves
DESCRIPTION:Data: 2018-01-30 (wtorek)\nMiasto: Kraków\nMiejsce: Studio\nAdres: ul. Burdyka 4\nStart sprzedaży biletów: 1.11.2017\, 10:00\nMiejsca zakupu: www.go-ahead.pl\, www.biletomat.pl\, www.ebilet.pl\,www.ticketpro.pl\, www.ticketmaster.pl oraz sklepy sieci Empik\, Media Markt i Saturn
URL:https://deathmagnetic.pl/wydarzenie/nothing-but-thieves-3/
LOCATION:Klub Studio\, Budryka 4\, Kraków\, Polska
CATEGORIES:Koncerty,zagraniczne
ATTACH;FMTTYPE=image/jpeg:https://deathmagnetic.pl/wp-content/uploads/2017/10/23000161_10159572934660486_8847923539294231136_o.jpg
ORGANIZER;CN="Go%20Ahead":MAILTO:agencja@go-ahead.pl
GEO:50.0683099;19.908494
X-APPLE-STRUCTURED-LOCATION;VALUE=URI;X-ADDRESS=Klub Studio Budryka 4 Kraków Polska;X-APPLE-RADIUS=500;X-TITLE=Budryka 4:geo:19.908494,50.0683099
END:VEVENT
END:VCALENDAR