BEGIN:VCALENDAR
VERSION:2.0
PRODID:-//Death Magnetic - ECPv5.10.1//NONSGML v1.0//EN
CALSCALE:GREGORIAN
METHOD:PUBLISH
X-WR-CALNAME:Death Magnetic
X-ORIGINAL-URL:https://deathmagnetic.pl
X-WR-CALDESC:Events for Death Magnetic
BEGIN:VTIMEZONE
TZID:Europe/Warsaw
BEGIN:DAYLIGHT
TZOFFSETFROM:+0100
TZOFFSETTO:+0200
TZNAME:CEST
DTSTART:20150329T010000
END:DAYLIGHT
BEGIN:STANDARD
TZOFFSETFROM:+0200
TZOFFSETTO:+0100
TZNAME:CET
DTSTART:20151025T010000
END:STANDARD
END:VTIMEZONE
BEGIN:VEVENT
DTSTART;TZID=Europe/Warsaw:20150427T200000
DTEND;TZID=Europe/Warsaw:20150427T230000
DTSTAMP:20260421T074158
CREATED:20150414T145336Z
LAST-MODIFIED:20150414T145650Z
UID:80242-1430164800-1430175600@deathmagnetic.pl
SUMMARY:Noise Pollution + Kairos + KaAtaKilla
DESCRIPTION:Ceny biletów: 10zł \nStart imprezy: 20:00
URL:https://deathmagnetic.pl/wydarzenie/noise-pollution-kairos-kaatakilla/
LOCATION:Stereo Krogs\, Zielona 8\, Łódź
CATEGORIES:Koncerty,zagraniczne
ATTACH;FMTTYPE=image/jpeg:https://deathmagnetic.pl/wp-content/uploads/2015/04/noisepollution-kairos-kaatakilla.jpg
GEO:51.7701507;19.4527912
X-APPLE-STRUCTURED-LOCATION;VALUE=URI;X-ADDRESS=Stereo Krogs Zielona 8 Łódź;X-APPLE-RADIUS=500;X-TITLE=Zielona 8:geo:19.4527912,51.7701507
END:VEVENT
END:VCALENDAR