BEGIN:VCALENDAR
VERSION:2.0
PRODID:-//Death Magnetic - ECPv5.10.1//NONSGML v1.0//EN
CALSCALE:GREGORIAN
METHOD:PUBLISH
X-WR-CALNAME:Death Magnetic
X-ORIGINAL-URL:https://deathmagnetic.pl
X-WR-CALDESC:Events for Death Magnetic
BEGIN:VTIMEZONE
TZID:Europe/Warsaw
BEGIN:DAYLIGHT
TZOFFSETFROM:+0100
TZOFFSETTO:+0200
TZNAME:CEST
DTSTART:20170326T010000
END:DAYLIGHT
BEGIN:STANDARD
TZOFFSETFROM:+0200
TZOFFSETTO:+0100
TZNAME:CET
DTSTART:20171029T010000
END:STANDARD
END:VTIMEZONE
BEGIN:VEVENT
DTSTART;TZID=Europe/Warsaw:20170318T170000
DTEND;TZID=Europe/Warsaw:20170318T230000
DTSTAMP:20260421T043938
CREATED:20170129T195358Z
LAST-MODIFIED:20170129T195358Z
UID:110933-1489856400-1489878000@deathmagnetic.pl
SUMMARY:Noise From Smog Metal Festiwal Vol. 2
DESCRIPTION:Roadhog\nDeath Swingers\nInverted Mind\nTester Gier\nThermiT\nThy Disease \nBilety:\nPrzedsprzedaż 40 zł\nW dniu koncertu 50 zł
URL:https://deathmagnetic.pl/wydarzenie/noise-from-smog-metal-festiwal-vol-2/
LOCATION:Klub Studencki Żaczek\, aleja 3 Maja 5\, Kraków\, małopolskie\, Polska
CATEGORIES:Koncerty,Polskie
ATTACH;FMTTYPE=image/jpeg:https://deathmagnetic.pl/wp-content/uploads/2017/01/noise-from-smog.jpg
GEO:50.060224;19.9219909
X-APPLE-STRUCTURED-LOCATION;VALUE=URI;X-ADDRESS=Klub Studencki Żaczek aleja 3 Maja 5 Kraków małopolskie Polska;X-APPLE-RADIUS=500;X-TITLE=aleja 3 Maja 5:geo:19.9219909,50.060224
END:VEVENT
END:VCALENDAR