BEGIN:VCALENDAR
VERSION:2.0
PRODID:-//Death Magnetic - ECPv5.10.1//NONSGML v1.0//EN
CALSCALE:GREGORIAN
METHOD:PUBLISH
X-WR-CALNAME:Death Magnetic
X-ORIGINAL-URL:https://deathmagnetic.pl
X-WR-CALDESC:Events for Death Magnetic
BEGIN:VTIMEZONE
TZID:Europe/Warsaw
BEGIN:DAYLIGHT
TZOFFSETFROM:+0100
TZOFFSETTO:+0200
TZNAME:CEST
DTSTART:20170326T010000
END:DAYLIGHT
BEGIN:STANDARD
TZOFFSETFROM:+0200
TZOFFSETTO:+0100
TZNAME:CET
DTSTART:20171029T010000
END:STANDARD
END:VTIMEZONE
BEGIN:VEVENT
DTSTART;TZID=Europe/Warsaw:20170310T190000
DTEND;TZID=Europe/Warsaw:20170310T230000
DTSTAMP:20260420T164554
CREATED:20170102T123122Z
LAST-MODIFIED:20170102T123122Z
UID:110031-1489172400-1489186800@deathmagnetic.pl
SUMMARY:Nocny Kochanek + Zenek
DESCRIPTION:Bilety: 30 zł przedsprzedaż / 40 zł w dniu koncertu.\nInformacje o przedsprzedaży wkrótce.
URL:https://deathmagnetic.pl/wydarzenie/nocny-kochanek-zenek-2/
LOCATION:Estrada Stagebar\, Dworcowa 51\, Bydgoszcz\, 85-009\, Polska
CATEGORIES:Koncerty,patronaty,Polskie
ATTACH;FMTTYPE=image/jpeg:https://deathmagnetic.pl/wp-content/uploads/2017/01/nocny-kochanek-zenek-tour.jpg
GEO:53.128864;17.9970805
X-APPLE-STRUCTURED-LOCATION;VALUE=URI;X-ADDRESS=Estrada Stagebar Dworcowa 51 Bydgoszcz 85-009 Polska;X-APPLE-RADIUS=500;X-TITLE=Dworcowa 51:geo:17.9970805,53.128864
END:VEVENT
END:VCALENDAR