BEGIN:VCALENDAR
VERSION:2.0
PRODID:-//Death Magnetic - ECPv5.10.1//NONSGML v1.0//EN
CALSCALE:GREGORIAN
METHOD:PUBLISH
X-WR-CALNAME:Death Magnetic
X-ORIGINAL-URL:https://deathmagnetic.pl
X-WR-CALDESC:Events for Death Magnetic
BEGIN:VTIMEZONE
TZID:Europe/Warsaw
BEGIN:DAYLIGHT
TZOFFSETFROM:+0100
TZOFFSETTO:+0200
TZNAME:CEST
DTSTART:20160327T010000
END:DAYLIGHT
BEGIN:STANDARD
TZOFFSETFROM:+0200
TZOFFSETTO:+0100
TZNAME:CET
DTSTART:20161030T010000
END:STANDARD
END:VTIMEZONE
BEGIN:VEVENT
DTSTART;TZID=Europe/Warsaw:20161023T190000
DTEND;TZID=Europe/Warsaw:20161023T230000
DTSTAMP:20260420T133753
CREATED:20160907T132357Z
LAST-MODIFIED:20160907T132357Z
UID:105129-1477249200-1477263600@deathmagnetic.pl
SUMMARY:Nocny Kochanek + SoulTaker
DESCRIPTION:Bilety będą dostępne w cenie 20 zł przedsprzedaż / 25 zł w dniu koncertu.
URL:https://deathmagnetic.pl/wydarzenie/nocny-kochanek-soultaker-2/
LOCATION:Klub Vinyl\, Piłsudskiego 31\, Rzeszów\, 35-074\, Polska
CATEGORIES:Koncerty,Polskie
ATTACH;FMTTYPE=image/jpeg:https://deathmagnetic.pl/wp-content/uploads/2016/09/hewi-metal-pany.jpg
GEO:50.0399787;22.007356
X-APPLE-STRUCTURED-LOCATION;VALUE=URI;X-ADDRESS=Klub Vinyl Piłsudskiego 31 Rzeszów 35-074 Polska;X-APPLE-RADIUS=500;X-TITLE=Piłsudskiego 31:geo:22.007356,50.0399787
END:VEVENT
END:VCALENDAR