BEGIN:VCALENDAR
VERSION:2.0
PRODID:-//Death Magnetic - ECPv5.10.1//NONSGML v1.0//EN
CALSCALE:GREGORIAN
METHOD:PUBLISH
X-WR-CALNAME:Death Magnetic
X-ORIGINAL-URL:https://deathmagnetic.pl
X-WR-CALDESC:Events for Death Magnetic
BEGIN:VTIMEZONE
TZID:Europe/Warsaw
BEGIN:DAYLIGHT
TZOFFSETFROM:+0100
TZOFFSETTO:+0200
TZNAME:CEST
DTSTART:20160327T010000
END:DAYLIGHT
BEGIN:STANDARD
TZOFFSETFROM:+0200
TZOFFSETTO:+0100
TZNAME:CET
DTSTART:20161030T010000
END:STANDARD
END:VTIMEZONE
BEGIN:VEVENT
DTSTART;TZID=Europe/Warsaw:20161118T190000
DTEND;TZID=Europe/Warsaw:20161118T230000
DTSTAMP:20260421T074757
CREATED:20160907T132200Z
LAST-MODIFIED:20160907T132200Z
UID:105127-1479495600-1479510000@deathmagnetic.pl
SUMMARY:Nocny Kochanek + Mescalero + Inscydent
DESCRIPTION:Bilety będą dostępne w cenie 20 zł przedsprzedaż / 25 zł w dniu koncertu.
URL:https://deathmagnetic.pl/wydarzenie/nocny-kochanek-mescalero-inscydent/
LOCATION:W Starym Kinie\, Rawicz\, mazowieckie\, Polska
CATEGORIES:Koncerty,Polskie
ATTACH;FMTTYPE=image/jpeg:https://deathmagnetic.pl/wp-content/uploads/2016/09/hewi-metal-pany.jpg
GEO:52.1764636;22.2872836
END:VEVENT
END:VCALENDAR