BEGIN:VCALENDAR
VERSION:2.0
PRODID:-//Death Magnetic - ECPv5.10.1//NONSGML v1.0//EN
CALSCALE:GREGORIAN
METHOD:PUBLISH
X-WR-CALNAME:Death Magnetic
X-ORIGINAL-URL:https://deathmagnetic.pl
X-WR-CALDESC:Events for Death Magnetic
BEGIN:VTIMEZONE
TZID:Europe/Warsaw
BEGIN:DAYLIGHT
TZOFFSETFROM:+0100
TZOFFSETTO:+0200
TZNAME:CEST
DTSTART:20160327T010000
END:DAYLIGHT
BEGIN:STANDARD
TZOFFSETFROM:+0200
TZOFFSETTO:+0100
TZNAME:CET
DTSTART:20161030T010000
END:STANDARD
END:VTIMEZONE
BEGIN:VEVENT
DTSTART;TZID=Europe/Warsaw:20160227T190000
DTEND;TZID=Europe/Warsaw:20160227T230000
DTSTAMP:20260421T074647
CREATED:20160209T182329Z
LAST-MODIFIED:20160209T182329Z
UID:97212-1456599600-1456614000@deathmagnetic.pl
SUMMARY:Nocny Kochanek + Crimson Valley + Mescalero
DESCRIPTION:Ceny biletów: \nprzedsprzedaż: 20 zł\nw dniu koncertu: 25 zł \nBilety dostępne w klubie.
URL:https://deathmagnetic.pl/wydarzenie/nocny-kochanek-crimson-valley-mescalero/
LOCATION:Klub Firlej\, ul. Grabiszyńska 56\, Wrocław\, 53-504\, Polska
CATEGORIES:Koncerty,patronaty,Polskie
ATTACH;FMTTYPE=image/jpeg:https://deathmagnetic.pl/wp-content/uploads/2016/02/nocny-kochanek-1.jpg
GEO:51.1023114;17.0145386
X-APPLE-STRUCTURED-LOCATION;VALUE=URI;X-ADDRESS=Klub Firlej ul. Grabiszyńska 56 Wrocław 53-504 Polska;X-APPLE-RADIUS=500;X-TITLE=ul. Grabiszyńska 56:geo:17.0145386,51.1023114
END:VEVENT
END:VCALENDAR