BEGIN:VCALENDAR
VERSION:2.0
PRODID:-//Death Magnetic - ECPv5.10.1//NONSGML v1.0//EN
CALSCALE:GREGORIAN
METHOD:PUBLISH
X-WR-CALNAME:Death Magnetic
X-ORIGINAL-URL:https://deathmagnetic.pl
X-WR-CALDESC:Events for Death Magnetic
BEGIN:VTIMEZONE
TZID:Europe/Warsaw
BEGIN:DAYLIGHT
TZOFFSETFROM:+0100
TZOFFSETTO:+0200
TZNAME:CEST
DTSTART:20160327T010000
END:DAYLIGHT
BEGIN:STANDARD
TZOFFSETFROM:+0200
TZOFFSETTO:+0100
TZNAME:CET
DTSTART:20161030T010000
END:STANDARD
END:VTIMEZONE
BEGIN:VEVENT
DTSTART;TZID=Europe/Warsaw:20161210T190000
DTEND;TZID=Europe/Warsaw:20161210T230000
DTSTAMP:20260421T062906
CREATED:20161104T111051Z
LAST-MODIFIED:20161104T111051Z
UID:107371-1481396400-1481410800@deathmagnetic.pl
SUMMARY:Nocny Kochanek + Black Velvet Band
DESCRIPTION:Bilety:\n20 zł -przedsprzedaż\n25 zł- w dniu koncertu
URL:https://deathmagnetic.pl/wydarzenie/nocny-kochanek-black-velvet-band/
LOCATION:Kazamata Wschodnia Bastionu I\, Okopowa\, Zamość\, mazowieckie\, 22-400\, Polska
CATEGORIES:Koncerty,Polskie
ATTACH;FMTTYPE=image/jpeg:https://deathmagnetic.pl/wp-content/uploads/2016/11/trasa-NK.jpg
GEO:52.4163359;21.3922124
X-APPLE-STRUCTURED-LOCATION;VALUE=URI;X-ADDRESS=Kazamata Wschodnia Bastionu I Okopowa Zamość mazowieckie 22-400 Polska;X-APPLE-RADIUS=500;X-TITLE=Okopowa:geo:21.3922124,52.4163359
END:VEVENT
END:VCALENDAR