BEGIN:VCALENDAR
VERSION:2.0
PRODID:-//Death Magnetic - ECPv5.10.1//NONSGML v1.0//EN
CALSCALE:GREGORIAN
METHOD:PUBLISH
X-WR-CALNAME:Death Magnetic
X-ORIGINAL-URL:https://deathmagnetic.pl
X-WR-CALDESC:Events for Death Magnetic
BEGIN:VTIMEZONE
TZID:Europe/Warsaw
BEGIN:DAYLIGHT
TZOFFSETFROM:+0100
TZOFFSETTO:+0200
TZNAME:CEST
DTSTART:20160327T010000
END:DAYLIGHT
BEGIN:STANDARD
TZOFFSETFROM:+0200
TZOFFSETTO:+0100
TZNAME:CET
DTSTART:20161030T010000
END:STANDARD
END:VTIMEZONE
BEGIN:VEVENT
DTSTART;TZID=Europe/Warsaw:20160305T190000
DTEND;TZID=Europe/Warsaw:20160305T230000
DTSTAMP:20260421T025806
CREATED:20160209T183430Z
LAST-MODIFIED:20160209T183430Z
UID:97215-1457204400-1457218800@deathmagnetic.pl
SUMMARY:Nocny Kochanek + Black Velvet Band + The Kroach
DESCRIPTION:BILETY: \n-przedsprzedaż: 20 zł – wkrótce podamy szczegóły gdzie i od kiedy bilety będą dostępne!\n-w dniu koncertu: 25 zł
URL:https://deathmagnetic.pl/wydarzenie/nocny-kochanek-black-velvet-band-the-kroach/
LOCATION:Kazamata Wschodnia Bastionu I\, Okopowa\, Zamość\, mazowieckie\, 22-400\, Polska
CATEGORIES:Koncerty,patronaty,Polskie
ATTACH;FMTTYPE=image/jpeg:https://deathmagnetic.pl/wp-content/uploads/2016/02/nocny-kochanek-1.jpg
GEO:52.4163359;21.3922124
X-APPLE-STRUCTURED-LOCATION;VALUE=URI;X-ADDRESS=Kazamata Wschodnia Bastionu I Okopowa Zamość mazowieckie 22-400 Polska;X-APPLE-RADIUS=500;X-TITLE=Okopowa:geo:21.3922124,52.4163359
END:VEVENT
END:VCALENDAR