BEGIN:VCALENDAR
VERSION:2.0
PRODID:-//Death Magnetic - ECPv5.10.1//NONSGML v1.0//EN
CALSCALE:GREGORIAN
METHOD:PUBLISH
X-WR-CALNAME:Death Magnetic
X-ORIGINAL-URL:https://deathmagnetic.pl
X-WR-CALDESC:Events for Death Magnetic
BEGIN:VTIMEZONE
TZID:Europe/Warsaw
BEGIN:DAYLIGHT
TZOFFSETFROM:+0100
TZOFFSETTO:+0200
TZNAME:CEST
DTSTART:20180325T010000
END:DAYLIGHT
BEGIN:STANDARD
TZOFFSETFROM:+0200
TZOFFSETTO:+0100
TZNAME:CET
DTSTART:20181028T010000
END:STANDARD
END:VTIMEZONE
BEGIN:VEVENT
DTSTART;TZID=Europe/Warsaw:20180407T200000
DTEND;TZID=Europe/Warsaw:20180407T233000
DTSTAMP:20260421T072344
CREATED:20170703T201616Z
LAST-MODIFIED:20170703T201616Z
UID:119903-1523131200-1523143800@deathmagnetic.pl
SUMMARY:Nocny Kochanek
DESCRIPTION:Bilety: 30 zł przedsprzedaż / 40 zł w dniu koncertu.\nInformacje o przedsprzedaży wkrótce.
URL:https://deathmagnetic.pl/wydarzenie/nocny-kochanek-76/
LOCATION:Underground Pub\, pl. Korfantego 1
CATEGORIES:Koncerty,patronaty,Polskie
ATTACH;FMTTYPE=image/jpeg:https://deathmagnetic.pl/wp-content/uploads/2017/07/19429753_1781524358827394_3094918020153293452_n.jpg
GEO:50.2604013;19.0226609
X-APPLE-STRUCTURED-LOCATION;VALUE=URI;X-ADDRESS=Underground Pub pl. Korfantego 1;X-APPLE-RADIUS=500;X-TITLE=pl. Korfantego 1:geo:19.0226609,50.2604013
END:VEVENT
END:VCALENDAR