BEGIN:VCALENDAR
VERSION:2.0
PRODID:-//Death Magnetic - ECPv5.10.1//NONSGML v1.0//EN
CALSCALE:GREGORIAN
METHOD:PUBLISH
X-WR-CALNAME:Death Magnetic
X-ORIGINAL-URL:https://deathmagnetic.pl
X-WR-CALDESC:Events for Death Magnetic
BEGIN:VTIMEZONE
TZID:Europe/Warsaw
BEGIN:DAYLIGHT
TZOFFSETFROM:+0100
TZOFFSETTO:+0200
TZNAME:CEST
DTSTART:20180325T010000
END:DAYLIGHT
BEGIN:STANDARD
TZOFFSETFROM:+0200
TZOFFSETTO:+0100
TZNAME:CET
DTSTART:20181028T010000
END:STANDARD
END:VTIMEZONE
BEGIN:VEVENT
DTSTART;TZID=Europe/Warsaw:20180304T200000
DTEND;TZID=Europe/Warsaw:20180304T233000
DTSTAMP:20260421T074038
CREATED:20170703T195253Z
LAST-MODIFIED:20170703T195253Z
UID:119897-1520193600-1520206200@deathmagnetic.pl
SUMMARY:Nocny Kochanek
DESCRIPTION:Bilety: 30 zł przedsprzedaż / 40 zł w dniu koncertu.\nInformacje o przedsprzedaży wkrótce.
URL:https://deathmagnetic.pl/wydarzenie/nocny-kochanek-71/
LOCATION:C-60\, Zaułek 1\, Gorzów Wielkopolski\, 66-400\, Polska
CATEGORIES:Koncerty,patronaty,Polskie
ATTACH;FMTTYPE=image/jpeg:https://deathmagnetic.pl/wp-content/uploads/2017/07/19429753_1781524358827394_3094918020153293452_n.jpg
GEO:52.7295452;15.2367685
X-APPLE-STRUCTURED-LOCATION;VALUE=URI;X-ADDRESS=C-60 Zaułek 1 Gorzów Wielkopolski 66-400 Polska;X-APPLE-RADIUS=500;X-TITLE=Zaułek 1:geo:15.2367685,52.7295452
END:VEVENT
END:VCALENDAR