BEGIN:VCALENDAR
VERSION:2.0
PRODID:-//Death Magnetic - ECPv5.10.1//NONSGML v1.0//EN
CALSCALE:GREGORIAN
METHOD:PUBLISH
X-WR-CALNAME:Death Magnetic
X-ORIGINAL-URL:https://deathmagnetic.pl
X-WR-CALDESC:Events for Death Magnetic
BEGIN:VTIMEZONE
TZID:Europe/Warsaw
BEGIN:DAYLIGHT
TZOFFSETFROM:+0100
TZOFFSETTO:+0200
TZNAME:CEST
DTSTART:20160327T010000
END:DAYLIGHT
BEGIN:STANDARD
TZOFFSETFROM:+0200
TZOFFSETTO:+0100
TZNAME:CET
DTSTART:20161030T010000
END:STANDARD
END:VTIMEZONE
BEGIN:VEVENT
DTSTART;TZID=Europe/Warsaw:20160430T190000
DTEND;TZID=Europe/Warsaw:20160430T230000
DTSTAMP:20260421T134911
CREATED:20160209T212844Z
LAST-MODIFIED:20160209T212844Z
UID:97230-1462042800-1462057200@deathmagnetic.pl
SUMMARY:Nocny Kochanek
DESCRIPTION:BILETY: \n-przedsprzedaż: 20 zł – wkrótce podamy szczegóły gdzie i od kiedy bilety będą dostępne!\n-w dniu koncertu: 25 zł
URL:https://deathmagnetic.pl/wydarzenie/nocny-kochanek-5/
LOCATION:Klub Woor\, Plac Wolności 1\, Kielce\, 25-600\, Polska
CATEGORIES:Koncerty,patronaty,Polskie
ATTACH;FMTTYPE=image/jpeg:https://deathmagnetic.pl/wp-content/uploads/2016/02/nocny-kochanek-1.jpg
GEO:50.868316;20.6342019
X-APPLE-STRUCTURED-LOCATION;VALUE=URI;X-ADDRESS=Klub Woor Plac Wolności 1 Kielce 25-600 Polska;X-APPLE-RADIUS=500;X-TITLE=Plac Wolności 1:geo:20.6342019,50.868316
END:VEVENT
END:VCALENDAR