BEGIN:VCALENDAR
VERSION:2.0
PRODID:-//Death Magnetic - ECPv5.10.1//NONSGML v1.0//EN
CALSCALE:GREGORIAN
METHOD:PUBLISH
X-WR-CALNAME:Death Magnetic
X-ORIGINAL-URL:https://deathmagnetic.pl
X-WR-CALDESC:Events for Death Magnetic
BEGIN:VTIMEZONE
TZID:Europe/Warsaw
BEGIN:DAYLIGHT
TZOFFSETFROM:+0100
TZOFFSETTO:+0200
TZNAME:CEST
DTSTART:20170326T010000
END:DAYLIGHT
BEGIN:STANDARD
TZOFFSETFROM:+0200
TZOFFSETTO:+0100
TZNAME:CET
DTSTART:20171029T010000
END:STANDARD
END:VTIMEZONE
BEGIN:VEVENT
DTSTART;TZID=Europe/Warsaw:20170204T190000
DTEND;TZID=Europe/Warsaw:20170204T230000
DTSTAMP:20260421T074040
CREATED:20170101T234448Z
LAST-MODIFIED:20170101T234448Z
UID:110015-1486234800-1486249200@deathmagnetic.pl
SUMMARY:Nocny Kochanek
DESCRIPTION:Bilety: 25 zł przedsprzedaż / 30 zł w dniu koncertu.\nInformacje o przedsprzedaży wkrótce.
URL:https://deathmagnetic.pl/wydarzenie/nocny-kochanek-29/
LOCATION:Klub Smok\, Warszawska 11/13\, Otwock\, mazowieckie
CATEGORIES:Koncerty,patronaty,Polskie
ATTACH;FMTTYPE=image/jpeg:https://deathmagnetic.pl/wp-content/uploads/2017/01/nocny-tour.jpg
GEO:52.111838;21.262396
X-APPLE-STRUCTURED-LOCATION;VALUE=URI;X-ADDRESS=Klub Smok Warszawska 11/13 Otwock mazowieckie;X-APPLE-RADIUS=500;X-TITLE=Warszawska 11/13:geo:21.262396,52.111838
END:VEVENT
END:VCALENDAR