BEGIN:VCALENDAR
VERSION:2.0
PRODID:-//Death Magnetic - ECPv5.10.1//NONSGML v1.0//EN
CALSCALE:GREGORIAN
METHOD:PUBLISH
X-WR-CALNAME:Death Magnetic
X-ORIGINAL-URL:https://deathmagnetic.pl
X-WR-CALDESC:Events for Death Magnetic
BEGIN:VTIMEZONE
TZID:Europe/Warsaw
BEGIN:DAYLIGHT
TZOFFSETFROM:+0100
TZOFFSETTO:+0200
TZNAME:CEST
DTSTART:20170326T010000
END:DAYLIGHT
BEGIN:STANDARD
TZOFFSETFROM:+0200
TZOFFSETTO:+0100
TZNAME:CET
DTSTART:20171029T010000
END:STANDARD
END:VTIMEZONE
BEGIN:VEVENT
DTSTART;TZID=Europe/Warsaw:20170524T190000
DTEND;TZID=Europe/Warsaw:20170524T233000
DTSTAMP:20260420T222016
CREATED:20170504T155146Z
LAST-MODIFIED:20170504T155146Z
UID:117107-1495652400-1495668600@deathmagnetic.pl
SUMMARY:Night Demon + Roadhog
DESCRIPTION:bilety: 40 zł (przedsprzedaż wkrótce)\n50 zł w dniu koncertu
URL:https://deathmagnetic.pl/wydarzenie/night-demon-roadhog/
LOCATION:Pogłos\, ul. Burakowska 12\, Warszawa\, mazowieckie\, Polska
CATEGORIES:Koncerty,zagraniczne
ATTACH;FMTTYPE=image/jpeg:https://deathmagnetic.pl/wp-content/uploads/2017/05/17966576_1365925406802626_3437235237370141653_o.jpg
ORGANIZER;CN="Reckless%20Productions":MAILTO:mngm@recklessmusic.pl
GEO:52.255086;20.979426
X-APPLE-STRUCTURED-LOCATION;VALUE=URI;X-ADDRESS=Pogłos ul. Burakowska 12 Warszawa mazowieckie Polska;X-APPLE-RADIUS=500;X-TITLE=ul. Burakowska 12:geo:20.979426,52.255086
END:VEVENT
END:VCALENDAR