BEGIN:VCALENDAR
VERSION:2.0
PRODID:-//Death Magnetic - ECPv5.10.1//NONSGML v1.0//EN
CALSCALE:GREGORIAN
METHOD:PUBLISH
X-WR-CALNAME:Death Magnetic
X-ORIGINAL-URL:https://deathmagnetic.pl
X-WR-CALDESC:Events for Death Magnetic
BEGIN:VTIMEZONE
TZID:Europe/Warsaw
BEGIN:DAYLIGHT
TZOFFSETFROM:+0100
TZOFFSETTO:+0200
TZNAME:CEST
DTSTART:20170326T010000
END:DAYLIGHT
BEGIN:STANDARD
TZOFFSETFROM:+0200
TZOFFSETTO:+0100
TZNAME:CET
DTSTART:20171029T010000
END:STANDARD
END:VTIMEZONE
BEGIN:VEVENT
DTSTART;TZID=Europe/Warsaw:20170522T190000
DTEND;TZID=Europe/Warsaw:20170522T220000
DTSTAMP:20260420T222045
CREATED:20170504T154727Z
LAST-MODIFIED:20170504T154727Z
UID:117102-1495479600-1495490400@deathmagnetic.pl
SUMMARY:Night Demon + J.D. Overdrive
DESCRIPTION:Bilety: 30 PLN przedsprzedaż / 40 PLN w dniu koncertu
URL:https://deathmagnetic.pl/wydarzenie/night-demon-j-d-overdrive/
LOCATION:Katofonia\, Mariacka 18 a\, Katowice\, 40-014\, Polska
CATEGORIES:Koncerty,zagraniczne
ATTACH;FMTTYPE=image/jpeg:https://deathmagnetic.pl/wp-content/uploads/2017/05/18238151_1885991771672045_3427394911357185392_o.jpg
ORGANIZER;CN="HappyDying%20Productions":MAILTO:happydying@o2.pl
GEO:50.257542;19.0268479
X-APPLE-STRUCTURED-LOCATION;VALUE=URI;X-ADDRESS=Katofonia Mariacka 18 a Katowice 40-014 Polska;X-APPLE-RADIUS=500;X-TITLE=Mariacka 18 a:geo:19.0268479,50.257542
END:VEVENT
END:VCALENDAR