BEGIN:VCALENDAR
VERSION:2.0
PRODID:-//Death Magnetic - ECPv5.10.1//NONSGML v1.0//EN
CALSCALE:GREGORIAN
METHOD:PUBLISH
X-WR-CALNAME:Death Magnetic
X-ORIGINAL-URL:https://deathmagnetic.pl
X-WR-CALDESC:Events for Death Magnetic
BEGIN:VTIMEZONE
TZID:Europe/Warsaw
BEGIN:DAYLIGHT
TZOFFSETFROM:+0100
TZOFFSETTO:+0200
TZNAME:CEST
DTSTART:20150329T010000
END:DAYLIGHT
BEGIN:STANDARD
TZOFFSETFROM:+0200
TZOFFSETTO:+0100
TZNAME:CET
DTSTART:20151025T010000
END:STANDARD
END:VTIMEZONE
BEGIN:VEVENT
DTSTART;TZID=Europe/Warsaw:20150822T140000
DTEND;TZID=Europe/Warsaw:20150822T220000
DTSTAMP:20260420T223900
CREATED:20150417T141946Z
LAST-MODIFIED:20150803T122139Z
UID:80392-1440252000-1440280800@deathmagnetic.pl
SUMMARY:Niech Cisza Milczy IV: Vader + Spatial + Krusher + Nonamen + Coprolith + Devilish Impressions
DESCRIPTION:  \nCeny biletów:\nJak co roku\, impreza jest całkowicie darmowa! \n 
URL:https://deathmagnetic.pl/wydarzenie/niech-cisza-milczy-iv-vader-spatial-krusher-nonamen-coprolith-devilish-impressions/
LOCATION:Boisko sportowe w Pyskowicach-Dzierżnie\, ul. Piaskowa\, Pyskowice-Dzierżno\, 44-120\, Polska
CATEGORIES:Festiwale
ATTACH;FMTTYPE=image/jpeg:https://deathmagnetic.pl/wp-content/uploads/2015/04/Niech-Cisza-Milczy-IV.jpg
GEO:50.3799961;18.5956633
X-APPLE-STRUCTURED-LOCATION;VALUE=URI;X-ADDRESS=Boisko sportowe w Pyskowicach-Dzierżnie ul. Piaskowa Pyskowice-Dzierżno 44-120 Polska;X-APPLE-RADIUS=500;X-TITLE=ul. Piaskowa:geo:18.5956633,50.3799961
END:VEVENT
END:VCALENDAR