BEGIN:VCALENDAR
VERSION:2.0
PRODID:-//Death Magnetic - ECPv5.10.1//NONSGML v1.0//EN
CALSCALE:GREGORIAN
METHOD:PUBLISH
X-WR-CALNAME:Death Magnetic
X-ORIGINAL-URL:https://deathmagnetic.pl
X-WR-CALDESC:Events for Death Magnetic
BEGIN:VTIMEZONE
TZID:Europe/Warsaw
BEGIN:DAYLIGHT
TZOFFSETFROM:+0100
TZOFFSETTO:+0200
TZNAME:CEST
DTSTART:20150329T010000
END:DAYLIGHT
BEGIN:STANDARD
TZOFFSETFROM:+0200
TZOFFSETTO:+0100
TZNAME:CET
DTSTART:20151025T010000
END:STANDARD
END:VTIMEZONE
BEGIN:VEVENT
DTSTART;TZID=Europe/Warsaw:20151013T190000
DTEND;TZID=Europe/Warsaw:20151013T230000
DTSTAMP:20260420T025733
CREATED:20150219T182108Z
LAST-MODIFIED:20150819T045131Z
UID:73172-1444762800-1444777200@deathmagnetic.pl
SUMMARY:Nickelback [ODWOŁANY]
DESCRIPTION:Ceny biletów (przedsprzedaż / w dniu koncertu): \n– Trybuny 171 – 199 zł \n– Golden Circle – 210 zł \n– Płyta – 171 zł \n– Niepełnosprawni – 171 zł \nBilety dostępne na: \nLiveNation
URL:https://deathmagnetic.pl/wydarzenie/nickelback/
LOCATION:Atlas Arena\, al. Bandurskiego 7\, Łódź\, Polska
CATEGORIES:Koncerty,zagraniczne
ATTACH;FMTTYPE=image/jpeg:https://deathmagnetic.pl/wp-content/uploads/2015/02/nickelback.jpg
ORGANIZER;CN="Live%20Nation":MAILTO:info@livenation.pl
GEO:51.7570376;19.4251408
X-APPLE-STRUCTURED-LOCATION;VALUE=URI;X-ADDRESS=Atlas Arena al. Bandurskiego 7 Łódź Polska;X-APPLE-RADIUS=500;X-TITLE=al. Bandurskiego 7:geo:19.4251408,51.7570376
END:VEVENT
END:VCALENDAR