BEGIN:VCALENDAR
VERSION:2.0
PRODID:-//Death Magnetic - ECPv5.10.1//NONSGML v1.0//EN
CALSCALE:GREGORIAN
METHOD:PUBLISH
X-WR-CALNAME:Death Magnetic
X-ORIGINAL-URL:https://deathmagnetic.pl
X-WR-CALDESC:Events for Death Magnetic
BEGIN:VTIMEZONE
TZID:Europe/Warsaw
BEGIN:DAYLIGHT
TZOFFSETFROM:+0100
TZOFFSETTO:+0200
TZNAME:CEST
DTSTART:20170326T010000
END:DAYLIGHT
BEGIN:STANDARD
TZOFFSETFROM:+0200
TZOFFSETTO:+0100
TZNAME:CET
DTSTART:20171029T010000
END:STANDARD
END:VTIMEZONE
BEGIN:VEVENT
DTSTART;VALUE=DATE:20171024
DTEND;VALUE=DATE:20171025
DTSTAMP:20260420T222459
CREATED:20170208T091047Z
LAST-MODIFIED:20170208T092826Z
UID:111458-1508803200-1508889599@deathmagnetic.pl
SUMMARY:Nick Cave & The Bad Seeds
DESCRIPTION:Bilety wejdą do sprzedaży 17 lutego o 10.00 na www.nickcave.com i www.livenation.pl.\nBilety na koncert w Warszawie w cenach 179 – 329 zł.
URL:https://deathmagnetic.pl/wydarzenie/nick-cave-the-bad-seeds/
LOCATION:Hala Torwar\, ul. Łazienkowska 6a\, Warszawa\, 00-449\, Polska
CATEGORIES:Koncerty,zagraniczne
ATTACH;FMTTYPE=image/jpeg:https://deathmagnetic.pl/wp-content/uploads/2017/02/Nick-Cave-Polska.jpg
ORGANIZER;CN="Live%20Nation":MAILTO:info@livenation.pl
GEO:52.2222869;21.040508
X-APPLE-STRUCTURED-LOCATION;VALUE=URI;X-ADDRESS=Hala Torwar ul. Łazienkowska 6a Warszawa 00-449 Polska;X-APPLE-RADIUS=500;X-TITLE=ul. Łazienkowska 6a:geo:21.040508,52.2222869
END:VEVENT
END:VCALENDAR