BEGIN:VCALENDAR
VERSION:2.0
PRODID:-//Death Magnetic - ECPv5.10.1//NONSGML v1.0//EN
CALSCALE:GREGORIAN
METHOD:PUBLISH
X-WR-CALNAME:Death Magnetic
X-ORIGINAL-URL:https://deathmagnetic.pl
X-WR-CALDESC:Events for Death Magnetic
BEGIN:VTIMEZONE
TZID:Europe/Warsaw
BEGIN:DAYLIGHT
TZOFFSETFROM:+0100
TZOFFSETTO:+0200
TZNAME:CEST
DTSTART:20160327T010000
END:DAYLIGHT
BEGIN:STANDARD
TZOFFSETFROM:+0200
TZOFFSETTO:+0100
TZNAME:CET
DTSTART:20161030T010000
END:STANDARD
END:VTIMEZONE
BEGIN:VEVENT
DTSTART;TZID=Europe/Warsaw:20160916T190000
DTEND;TZID=Europe/Warsaw:20160916T230000
DTSTAMP:20260420T135928
CREATED:20160823T090104Z
LAST-MODIFIED:20160823T090104Z
UID:104714-1474052400-1474066800@deathmagnetic.pl
SUMMARY:Netherfell + Skyanger + Nerville
DESCRIPTION:Bilety: 10zł (w dniu koncertu)
URL:https://deathmagnetic.pl/wydarzenie/netherfell-skyanger-nerville/
LOCATION:Semafor\, Towarowa 2\, Skarżysko Kamienna\, 26-110\, Polska
CATEGORIES:Koncerty,Polskie
ATTACH;FMTTYPE=image/jpeg:https://deathmagnetic.pl/wp-content/uploads/2016/08/skarżysko.jpg
ORGANIZER;CN="Heart%20Of%20Rock%20Agency":MAILTO:office@heartofrockagency.com
GEO:51.1130177;20.8787669
X-APPLE-STRUCTURED-LOCATION;VALUE=URI;X-ADDRESS=Semafor Towarowa 2 Skarżysko Kamienna 26-110 Polska;X-APPLE-RADIUS=500;X-TITLE=Towarowa 2:geo:20.8787669,51.1130177
END:VEVENT
END:VCALENDAR