BEGIN:VCALENDAR
VERSION:2.0
PRODID:-//Death Magnetic - ECPv5.10.1//NONSGML v1.0//EN
CALSCALE:GREGORIAN
METHOD:PUBLISH
X-WR-CALNAME:Death Magnetic
X-ORIGINAL-URL:https://deathmagnetic.pl
X-WR-CALDESC:Events for Death Magnetic
BEGIN:VTIMEZONE
TZID:Europe/Warsaw
BEGIN:DAYLIGHT
TZOFFSETFROM:+0100
TZOFFSETTO:+0200
TZNAME:CEST
DTSTART:20160327T010000
END:DAYLIGHT
BEGIN:STANDARD
TZOFFSETFROM:+0200
TZOFFSETTO:+0100
TZNAME:CET
DTSTART:20161030T010000
END:STANDARD
END:VTIMEZONE
BEGIN:VEVENT
DTSTART;TZID=Europe/Warsaw:20160831T190000
DTEND;TZID=Europe/Warsaw:20160831T230000
DTSTAMP:20260420T222101
CREATED:20160823T084346Z
LAST-MODIFIED:20160823T084346Z
UID:104701-1472670000-1472684400@deathmagnetic.pl
SUMMARY:Netherfell Skyanger + HexHorn + Drakon
DESCRIPTION:Bilety: 10zł (w dniu koncertu)
URL:https://deathmagnetic.pl/wydarzenie/netherfell-skyanger-hexhorn-drakon/
LOCATION:Rock Out\, Wybickiego 1a\, Dąbrowa Górnicza\, mazowieckie\, Polska
CATEGORIES:Koncerty,Polskie
ATTACH;FMTTYPE=image/jpeg:https://deathmagnetic.pl/wp-content/uploads/2016/08/Netherfell-dbwa-górnicza.jpg
ORGANIZER;CN="Heart%20Of%20Rock%20Agency":MAILTO:office@heartofrockagency.com
GEO:51.8927182;21.0021679
X-APPLE-STRUCTURED-LOCATION;VALUE=URI;X-ADDRESS=Rock Out Wybickiego 1a Dąbrowa Górnicza mazowieckie Polska;X-APPLE-RADIUS=500;X-TITLE=Wybickiego 1a:geo:21.0021679,51.8927182
END:VEVENT
END:VCALENDAR