BEGIN:VCALENDAR
VERSION:2.0
PRODID:-//Death Magnetic - ECPv5.10.1//NONSGML v1.0//EN
CALSCALE:GREGORIAN
METHOD:PUBLISH
X-WR-CALNAME:Death Magnetic
X-ORIGINAL-URL:https://deathmagnetic.pl
X-WR-CALDESC:Events for Death Magnetic
BEGIN:VTIMEZONE
TZID:Europe/Warsaw
BEGIN:DAYLIGHT
TZOFFSETFROM:+0100
TZOFFSETTO:+0200
TZNAME:CEST
DTSTART:20160327T010000
END:DAYLIGHT
BEGIN:STANDARD
TZOFFSETFROM:+0200
TZOFFSETTO:+0100
TZNAME:CET
DTSTART:20161030T010000
END:STANDARD
END:VTIMEZONE
BEGIN:VEVENT
DTSTART;TZID=Europe/Warsaw:20161217T190000
DTEND;TZID=Europe/Warsaw:20161217T230000
DTSTAMP:20260420T191741
CREATED:20161115T104616Z
LAST-MODIFIED:20161115T104616Z
UID:107862-1482001200-1482015600@deathmagnetic.pl
SUMMARY:Mishung Fest II: Pandemonium + Hegemony + Spatial + Mementoria
DESCRIPTION:GODZINA: 19:00\nBILETY:\n20 zł (przedsprzedaż)\n30 zł (w dniu koncertu) \nBilety dostępne na:\nhttps://www.facebook.com/Mork-Stork-Productions-761720690620212\nhttps://www.facebook.com/HegemonyTheBand\nhttp://www.rudeboyclub.pl/Kalendarium/KupBilet
URL:https://deathmagnetic.pl/wydarzenie/mishung-fest-ii-pandemonium-hegemony-spatial-mementoria/
LOCATION:Rudeboy Club\, 1 maja 20\, Bielsko-Biała\, 43-300\, Polska
CATEGORIES:Koncerty,Polskie
ATTACH;FMTTYPE=image/jpeg:https://deathmagnetic.pl/wp-content/uploads/2016/11/Act-IV.jpg
GEO:49.817453;19.0456459
X-APPLE-STRUCTURED-LOCATION;VALUE=URI;X-ADDRESS=Rudeboy Club 1 maja 20 Bielsko-Biała 43-300 Polska;X-APPLE-RADIUS=500;X-TITLE=1 maja 20:geo:19.0456459,49.817453
END:VEVENT
END:VCALENDAR