BEGIN:VCALENDAR
VERSION:2.0
PRODID:-//Death Magnetic - ECPv5.10.1//NONSGML v1.0//EN
CALSCALE:GREGORIAN
METHOD:PUBLISH
X-WR-CALNAME:Death Magnetic
X-ORIGINAL-URL:https://deathmagnetic.pl
X-WR-CALDESC:Events for Death Magnetic
BEGIN:VTIMEZONE
TZID:Europe/Warsaw
BEGIN:DAYLIGHT
TZOFFSETFROM:+0100
TZOFFSETTO:+0200
TZNAME:CEST
DTSTART:20170326T010000
END:DAYLIGHT
BEGIN:STANDARD
TZOFFSETFROM:+0200
TZOFFSETTO:+0100
TZNAME:CET
DTSTART:20171029T010000
END:STANDARD
END:VTIMEZONE
BEGIN:VEVENT
DTSTART;TZID=Europe/Warsaw:20171104T190000
DTEND;TZID=Europe/Warsaw:20171104T220000
DTSTAMP:20260420T222358
CREATED:20170712T132653Z
LAST-MODIFIED:20170712T132653Z
UID:147872-1509822000-1509832800@deathmagnetic.pl
SUMMARY:Metz + Protomartyr
DESCRIPTION:Informacje o biletach już wkrótce!\nMiejsca sprzedaży: www.go-ahead.pl\, www.biletomat.pl\, www.ebilet.pl\,www.ticketpro.pl\, www.ticketmaster.pl\, oraz sklepy sieci Empik\, Media Markt\, Saturn
URL:https://deathmagnetic.pl/wydarzenie/metz-protomartyr-2/
LOCATION:Hydrozagadka\, 11 listopada 22\, Warszawa\, Polska
CATEGORIES:Koncerty,zagraniczne
ATTACH;FMTTYPE=image/jpeg:https://deathmagnetic.pl/wp-content/uploads/2017/07/METZ_tourADMAT_PL.jpg
ORGANIZER;CN="Go%20Ahead":MAILTO:agencja@go-ahead.pl
GEO:52.259164;21.0363389
X-APPLE-STRUCTURED-LOCATION;VALUE=URI;X-ADDRESS=Hydrozagadka 11 listopada 22 Warszawa Polska;X-APPLE-RADIUS=500;X-TITLE=11 listopada 22:geo:21.0363389,52.259164
END:VEVENT
END:VCALENDAR