BEGIN:VCALENDAR
VERSION:2.0
PRODID:-//Death Magnetic - ECPv5.10.1//NONSGML v1.0//EN
CALSCALE:GREGORIAN
METHOD:PUBLISH
X-WR-CALNAME:Death Magnetic
X-ORIGINAL-URL:https://deathmagnetic.pl
X-WR-CALDESC:Events for Death Magnetic
BEGIN:VTIMEZONE
TZID:Europe/Warsaw
BEGIN:DAYLIGHT
TZOFFSETFROM:+0100
TZOFFSETTO:+0200
TZNAME:CEST
DTSTART:20150329T010000
END:DAYLIGHT
BEGIN:STANDARD
TZOFFSETFROM:+0200
TZOFFSETTO:+0100
TZNAME:CET
DTSTART:20151025T010000
END:STANDARD
END:VTIMEZONE
BEGIN:VEVENT
DTSTART;VALUE=DATE:20151219
DTEND;VALUE=DATE:20151220
DTSTAMP:20260420T123908
CREATED:20151001T111603Z
LAST-MODIFIED:20151001T111603Z
UID:92824-1450483200-1450569599@deathmagnetic.pl
SUMMARY:Metalowa Wigilia 2015: Triptykon + Gorgoroth + Primordial + Kampfar + Gehenna
DESCRIPTION:Harmonogram:\nDrzwi: 15:00\nKoncert: 16:00 \nBilety: 110 pln (przedsprzedaż) / 130 pln (w dniu koncertu) \nDo nabycia w sieci Ticketpro i Eventim oraz w Progresji (kolekcjonerskie).
URL:https://deathmagnetic.pl/wydarzenie/metalowa-wigilia-2015-triptykon-gorgoroth-primordial-kampfar-gehenna/
LOCATION:Progresja\, Fort Wola 22\, Warszawa\, Polska
CATEGORIES:Koncerty,zagraniczne
ATTACH;FMTTYPE=image/jpeg:https://deathmagnetic.pl/wp-content/uploads/2015/10/mw2015.jpg
GEO:52.224827;20.9287
X-APPLE-STRUCTURED-LOCATION;VALUE=URI;X-ADDRESS=Progresja Fort Wola 22 Warszawa Polska;X-APPLE-RADIUS=500;X-TITLE=Fort Wola 22:geo:20.9287,52.224827
END:VEVENT
END:VCALENDAR