BEGIN:VCALENDAR
VERSION:2.0
PRODID:-//Death Magnetic - ECPv5.10.1//NONSGML v1.0//EN
CALSCALE:GREGORIAN
METHOD:PUBLISH
X-WR-CALNAME:Death Magnetic
X-ORIGINAL-URL:https://deathmagnetic.pl
X-WR-CALDESC:Events for Death Magnetic
BEGIN:VTIMEZONE
TZID:Europe/Warsaw
BEGIN:DAYLIGHT
TZOFFSETFROM:+0100
TZOFFSETTO:+0200
TZNAME:CEST
DTSTART:20190331T010000
END:DAYLIGHT
BEGIN:STANDARD
TZOFFSETFROM:+0200
TZOFFSETTO:+0100
TZNAME:CET
DTSTART:20191027T010000
END:STANDARD
END:VTIMEZONE
BEGIN:VEVENT
DTSTART;TZID=Europe/Warsaw:20190823T170000
DTEND;TZID=Europe/Warsaw:20190823T170000
DTSTAMP:20260421T124103
CREATED:20190818T213434Z
LAST-MODIFIED:20190818T213434Z
UID:164056-1566579600-1566579600@deathmagnetic.pl
SUMMARY:Męskie Granie 2019 | Żywiec
DESCRIPTION:? SCENA GŁÓWNA ?\nSORRY BOYS\nkról\nŁĄKI ŁAN\nVOO VOO\nSokół + Goście\nDaria Zawiałow\nTHE DUMPLINGS\nMĘSKIE GRANIE ORKIESTRA \n? SCENA Ż ?\nSosnowski\nZiela\nClock Machine\nLinia Nocna
URL:https://deathmagnetic.pl/wydarzenie/meskie-granie-2019-zywiec/
LOCATION:Amfiteatr pod Grojcem\, Grojec 50\, Żywiec\, śląskie\, 34-300\, Polska
CATEGORIES:Koncerty,Polskie
ATTACH;FMTTYPE=image/jpeg:https://deathmagnetic.pl/wp-content/uploads/2019/08/Męskie-Granie-2019-Żywiec.jpg
GEO:49.6778464;19.2025026
X-APPLE-STRUCTURED-LOCATION;VALUE=URI;X-ADDRESS=Amfiteatr pod Grojcem Grojec 50 Żywiec śląskie 34-300 Polska;X-APPLE-RADIUS=500;X-TITLE=Grojec 50:geo:19.2025026,49.6778464
END:VEVENT
END:VCALENDAR