BEGIN:VCALENDAR
VERSION:2.0
PRODID:-//Death Magnetic - ECPv5.10.1//NONSGML v1.0//EN
CALSCALE:GREGORIAN
METHOD:PUBLISH
X-WR-CALNAME:Death Magnetic
X-ORIGINAL-URL:https://deathmagnetic.pl
X-WR-CALDESC:Events for Death Magnetic
BEGIN:VTIMEZONE
TZID:Europe/Warsaw
BEGIN:DAYLIGHT
TZOFFSETFROM:+0100
TZOFFSETTO:+0200
TZNAME:CEST
DTSTART:20190331T010000
END:DAYLIGHT
BEGIN:STANDARD
TZOFFSETFROM:+0200
TZOFFSETTO:+0100
TZNAME:CET
DTSTART:20191027T010000
END:STANDARD
END:VTIMEZONE
BEGIN:VEVENT
DTSTART;TZID=Europe/Warsaw:20190817T170000
DTEND;TZID=Europe/Warsaw:20190817T233000
DTSTAMP:20260421T022215
CREATED:20190605T132822Z
LAST-MODIFIED:20190605T132822Z
UID:163194-1566061200-1566084600@deathmagnetic.pl
SUMMARY:Męskie Granie 2019 - Warszawa
DESCRIPTION:Sprzedaż biletów rusza już 06.06.2019 o godzinie 12:00. \nSCENA GŁÓWNA: \nDaria Zawiałow\nBass Astral x Igo\nKORTEZ\nMaria Peszek\nKrzysztof Zalewski\nMĘSKIE GRANIE ORKIESTRA\nORKIESTRA ORKIESTR: Smolik\, Abradab\, Brodka\, Fisz\, Igo\, Kortez\, Lech Janerka\, Maciej Maleńczuk\, Marek Dyjak\, Mela Koteluk\, Nosowska\, Organek\, O.S.T.R.\, Rogucki\, Spięty\, Wojciech Waglewski\, Zalewski \nSCENA Ż: \nRobert Cichy\nThe Cassino\nKasai\nMrozu
URL:https://deathmagnetic.pl/wydarzenie/meskie-granie-2019-warszawa/
LOCATION:Służewiec\, Warszawa
CATEGORIES:Festiwale,Polskie
ATTACH;FMTTYPE=image/jpeg:https://deathmagnetic.pl/wp-content/uploads/2019/06/męskiegranie2019_warszawa.jpg
GEO:52.2296756;21.0122287
END:VEVENT
END:VCALENDAR