BEGIN:VCALENDAR
VERSION:2.0
PRODID:-//Death Magnetic - ECPv5.10.1//NONSGML v1.0//EN
CALSCALE:GREGORIAN
METHOD:PUBLISH
X-WR-CALNAME:Death Magnetic
X-ORIGINAL-URL:https://deathmagnetic.pl
X-WR-CALDESC:Events for Death Magnetic
BEGIN:VTIMEZONE
TZID:Europe/Warsaw
BEGIN:DAYLIGHT
TZOFFSETFROM:+0100
TZOFFSETTO:+0200
TZNAME:CEST
DTSTART:20190331T010000
END:DAYLIGHT
BEGIN:STANDARD
TZOFFSETFROM:+0200
TZOFFSETTO:+0100
TZNAME:CET
DTSTART:20191027T010000
END:STANDARD
END:VTIMEZONE
BEGIN:VEVENT
DTSTART;TZID=Europe/Warsaw:20190720T170000
DTEND;TZID=Europe/Warsaw:20190720T230000
DTSTAMP:20260420T190806
CREATED:20190605T125113Z
LAST-MODIFIED:20190605T133928Z
UID:163184-1563642000-1563663600@deathmagnetic.pl
SUMMARY:Męskie Granie 2019 - Kraków
DESCRIPTION:Sprzedaż biletów rusza już 06.06.2019 o godzinie 12:00.\n\nSCENA GŁÓWNA: \nJamal\nNatalia Przybysz\nBass Astral x Igo\nO.S.T.R.\nNOSOWSKA\nØRGANEK\nMĘSKIE GRANIE ORKIESTRA \nSCENA Ż: \nRunforrest\nTerrific Sunday\nKarolina Czarnecka\nLinia Nocna
URL:https://deathmagnetic.pl/wydarzenie/meskie-granie-2019-krakow/
LOCATION:Muzeum Lotnictwa Polskiego\, al. Jana Pawła II 39\, Kraków\, małopolskie\, 31-864\, Polska
CATEGORIES:Festiwale,Polskie
ATTACH;FMTTYPE=image/jpeg:https://deathmagnetic.pl/wp-content/uploads/2019/06/męskiegranie2019_krakow.jpg
GEO:50.0769279;19.993469
X-APPLE-STRUCTURED-LOCATION;VALUE=URI;X-ADDRESS=Muzeum Lotnictwa Polskiego al. Jana Pawła II 39 Kraków małopolskie 31-864 Polska;X-APPLE-RADIUS=500;X-TITLE=al. Jana Pawła II 39:geo:19.993469,50.0769279
END:VEVENT
END:VCALENDAR